{"text_format":"2","workbook":"xlsx","n_sheets":7,"sheets":["Tab1","Tab2","Tab5","TOTALI","Sospesi e Giacenze","Tab3","Tab4"],"not_rendered":{"charts":0,"images":0,"macros":0,"external_links":0,"defined_names":2,"comments":0,"pivot_tables":0},"unopened":[],"bounds":{"document_bytes":16777216,"sheet_cells":100000,"run_cost":"one","rows_first":2000,"rows_last":500,"rows_between":2000,"halvings":0,"cell_chars":16384,"cell_head_chars":4096},"cells_cut":0,"cells_raw":0,"read":"whole","date_system":"1900"}

{"sheet":"Tab1","index":0,"n_rows":103,"n_cols":65,"rows_kept":103,"cut":false,"hidden":false,"merged":[[97,4,97,5],[97,0,97,3],[97,6,97,7],[14,4,14,5],[14,6,14,7],[0,6,1,7],[0,0,1,2],[2,0,2,3],[14,0,14,3],[4,0,4,3],[4,4,4,5],[4,6,4,7]]}
["Fresco e Mandorle/Pistacchi",null,null,"Non consegnati: riso Ermes rosso; ceci Terra e Cielo; pomodori Piccadilly","Tot con Trasp.",null,{"$f":"SUM(I1:BM1)","v":"€ 1,275"},null,{"$f":"IF(I2=0,0,I2+$F2*(I2/SUM($I2:$BM2)))","v":"€ 67.38"},"€ 38.40","€ 9.60","€ 65.90","€ 30.51","€ 67.89","€ 63.40","€ 0.00","€ 16.60","€ 8.49","€ 36.03","€ 29.31","€ 0.00","€ 31.92","€ 38.80","€ 16.14","€ 15.53","€ 59.43","€ 68.15","€ 23.26","€ 28.15","€ 0.00","€ 88.27","€ 12.50","€ 52.79","€ 27.06","€ 127.28","€ 15.11","€ 0.00","€ 44.09","€ 0.00","€ 7.49","€ 59.14","€ 0.00","€ 24.45","€ 64.62","€ 37.58","€ 0.00","€ 0.00","€ 0.00","€ 0.00","€ 0.00","€ 0.00","€ 0.00","€ 0.00","€ 0.00","€ 0.00","€ 0.00","€ 0.00","€ 0.00","€ 0.00","€ 0.00","€ 0.00","€ 0.00","€ 0.00","€ 0.00","€ 0.00"]
[null,null,null,"Con variazioni:pomodoro Piccadilly sostituito con pomodoro tondo a grappolo; cardo romagnolo arrivato in cassa da 5 kg e non 4 kg","Trasporto:",0.0,null,null,{"$f":"I5+I15+I98","v":"€ 67.38"},"€ 38.40","€ 9.60","€ 65.90","€ 30.51","€ 67.89","€ 63.40","€ 0.00","€ 16.60","€ 8.49","€ 36.03","€ 29.31","€ 0.00","€ 31.92","€ 38.80","€ 16.14","€ 15.53","€ 59.43","€ 68.15","€ 23.26","€ 28.15","€ 0.00","€ 88.27","€ 12.50","€ 52.79","€ 27.06","€ 127.28","€ 15.11","€ 0.00","€ 44.09","€ 0.00","€ 7.49","€ 59.14","€ 0.00","€ 24.45","€ 64.62","€ 37.58","€ 0.00","€ 0.00","€ 0.00","€ 0.00","€ 0.00","€ 0.00","€ 0.00","€ 0.00","€ 0.00","€ 0.00","€ 0.00","€ 0.00","€ 0.00","€ 0.00","€ 0.00","€ 0.00","€ 0.00","€ 0.00","€ 0.00","€ 0.00"]
["anche per formaggi, meloni, angurie e zucche, sostituire quantità con PESO reale",{"$nulls":7},"Nino 01 - Alessandro","Paolo 02 - Cattorini","Giuseppe 03 - Dominici","Simona 04 - Riganti","Sara 05 - Salvalaglio","Fabio 06 - Dal Soglio","Cinzia 07 - Vicario","Daniela 08 - Achler","Carlotta 09 - Anzini","Ada 10 - Benigna","Raffaello 11 - Bezzon","Roberta 12 - Castiglioni","Marco 13 - Cavone","Guia 14 - Comini","Paolo 15 - Cordilani","Elena 16 - Di Nisio","Germana 18 - Drago","Mina 20 - Ferrario","Francesca 22 - Giannuzzi","Ester 23 - Grasselli","Alberto 24 - Longoni","Daniela 27 - Pariani","Italo 28 - Raffaelli","Silvia 29 - Raimondi","Stefano 31 - Tonazzi","Diego 33 - Valceschini","Alberto 34 - Venegoni","Monica 35 - Vernocchi","Loredana 37 - Colombo","Stefano 38 - Colombo","Alessandra 39 - Tartaro","Stefano 42 - Torzuoli","Emilia 43 - Armiraglio","Elisabetta 44 - Tosi","Rosangela 46 - Valli","Paola 48 - Dusi","Paolo 49 - Carrera"]
["TOT pesi","Ecce denza","quanti hanno ordinato","Prodotto","Prezzo\nper UM","UM","Peso\nCollo","Colli\nda ordinare","\nninoalessandro.bargas@gmail.com","\npaolo.cattorini@gmail.com","\ngiuseppe.pino.dominici@gmail.com","\nsriganti.bargas@gmail.com","\nsarasalvi86@libero.it","\nfabiodalsoglio@hotmail.com","\nvicario.cinzia@gmail.com","\nciapparelligiovanni@libero.it","\ncarlotta.anzini@gmail.com","\nada.benigna@gmail.com","\nraffaello.bezzon@gmail.com","\nrcastiglio@libero.it","\nmarco.cavone@gmail.com","\nguya.c@hotmail.it","\nvapaio@gmail.com","\neldinis@libero.it","\ndragogermana@libero.it","\nminaferrario@gmail.com","\ngiannuzzifrancesca@virgilio.it","\ngrasselli67@gmail.com","\nalbertolongoni@alice.it","\ndaniela.pariani@gmail.com","\nitalo.donata@gmail.com","\nsilvia.raimondi@telesystems-pro.it","\ntonazzistefano@hotmail.it","\ndiego.valceschini@libero.it","\navenus2204@gmail.com","\nmonicavrn@hotmail.com","\nloredcol@gmail.com","\nstefano1963.sc@gmail.com","\nalessandratartaro@gmail.com","\nstefano.torzuoli@gmail.com","\nemiliarosacarla@libero.it","\nelisabetta.tosi@avvocatotosi.it","\nrosangela.valli@libero.it","\npaola.dusi@gmail.com","\ngrad.carrera@gmail.com"]
["Mandorle e Pistacchi",null,null,null,"tot senza trasporto:",null,{"$f":"SUM(I5:BM5)","v":"€ 231.15"},null,{"$f":"SUMPRODUCT($E6:$E14,I6:I14)","v":"€ 45.80"},"€ 6.40","€ 9.60","€ 32.40","€ 4.40","€ 0.00","€ 12.50","€ 0.00","€ 0.00","€ 0.00","€ 0.00","€ 0.00","€ 0.00","€ 0.00","€ 0.00","€ 0.00","€ 4.85","€ 0.00","€ 9.80","€ 0.00","€ 0.00","€ 0.00","€ 20.15","€ 12.50","€ 4.40","€ 0.00","€ 43.90","€ 0.00","€ 0.00","€ 0.00","€ 0.00","€ 0.00","€ 0.00","€ 0.00","€ 24.45","€ 0.00","€ 0.00","€ 0.00","€ 0.00","€ 0.00","€ 0.00","€ 0.00","€ 0.00","€ 0.00","€ 0.00","€ 0.00","€ 0.00","€ 0.00","€ 0.00","€ 0.00","€ 0.00","€ 0.00","€ 0.00","€ 0.00","€ 0.00","€ 0.00","€ 0.00"]
[{"$f":"SUM(I6:BM6)","v":"3.00"},{"$f":"G6*H6-A6","v":"0.00"},{"$f":"COUNT(I6:BM6)","v":"3"},"PISTACCHI SGUSCIATI gr. 100 - Serra di Mezzo",4.85,"PZ",1.0,3.0,{"$nulls":16},1.0,{"$nulls":5},1.0,{"$nulls":11},1.0]
["2.00","0.00","1","FARINA DI MANDORLE gr. 500 - Serra di Mezzo",7.0,"PZ",1.0,2.0,{"$nulls":26},2.0]
["5.00","0.00","3","GRANELLA DI MANDORLE gr. 250 - Serra di Mezzo",4.4,"PZ",1.0,5.0,{"$nulls":4},1.0,{"$nulls":19},1.0,null,3.0]
["7.00","0.00","4","Crema di mandorle (mandorle 100%) gr. 200 - Serra di Mezzo",6.4,"PZ",1.0,7.0,3.0,1.0,null,2.0,{"$nulls":22},1.0]
["1.00","0.00","1","Crema di mandorle gr. 200 - Serra di Mezzo",5.5,"PZ",1.0,1.0,{"$nulls":6},1.0]
["3.00","0.00","3","Crema di nocciole gr. 200 - Serra di Mezzo",5.5,"PZ",1.0,3.0,{"$nulls":22},1.0,1.0,null,null,1.0]
["3.00","0.00","3","Crema di pistacchi gr. 200 - Serra di Mezzo",7.0,"PZ",1.0,3.0,1.0,{"$nulls":5},1.0,{"$nulls":16},1.0]
["8.00","0.00","5","Crema di pistacchi gr. 200 (pistacchi 100%) - Serra di Mezzo",9.8,"PZ",1.0,8.0,2.0,null,null,2.0,{"$nulls":14},1.0,null,null,null,1.0,{"$nulls":11},2.0]
["3.00","0.00","2","PESTO di PISTACCHI GR. 90 - Serra di Mezzo",4.8,"PZ",1.0,3.0,null,null,2.0,{"$nulls":23},1.0]
["Fresco tramite AEQUOS",null,null,null,"tot senza trasporto:",null,{"$f":"SUM(I15:BM15)","v":"€ 1,036.70"},null,{"$f":"SUMPRODUCT($E16:$E97,I16:I97)","v":"€ 21.58"},"€ 32.00","€ 0.00","€ 33.50","€ 26.11","€ 67.89","€ 50.90","€ 0.00","€ 16.60","€ 8.49","€ 36.03","€ 29.31","€ 0.00","€ 31.92","€ 38.80","€ 16.14","€ 5.43","€ 59.43","€ 58.35","€ 23.26","€ 28.15","€ 0.00","€ 68.12","€ 0.00","€ 48.39","€ 27.06","€ 83.38","€ 15.11","€ 0.00","€ 41.94","€ 0.00","€ 7.49","€ 59.14","€ 0.00","€ 0.00","€ 64.62","€ 37.58","€ 0.00","€ 0.00","€ 0.00","€ 0.00","€ 0.00","€ 0.00","€ 0.00","€ 0.00","€ 0.00","€ 0.00","€ 0.00","€ 0.00","€ 0.00","€ 0.00","€ 0.00","€ 0.00","€ 0.00","€ 0.00","€ 0.00","€ 0.00"]
[{"$f":"SUM(I16:BM16)","v":"18.10"},{"$f":"G16*H16-A16","v":"-0.09"},{"$f":"COUNT(I16:BM16)","v":"17"},"BANANE BIO SFUSE  (Commercio Equo) - Spreafico",1.8,"KG",9.0,2.0,1.015,0.975,null,1.075,0.995,1.495,0.95,null,null,null,1.01,1.015,null,1.495,0.94,null,null,0.955,{"$nulls":4},1.045,null,null,1.005,0.965,null,null,1.02,{"$nulls":5},1.105,1.035]
["9.09","-0.09","8","CACHI - antica varietÃ  ligure Baby Julia - Roncaglia",1.8,"KG",4.5,2.0,null,0.515,null,null,null,2.175,1.185,{"$nulls":6},1.17,{"$nulls":4},1.055,null,null,null,1.125,{"$nulls":4},0.425,{"$nulls":7},1.44]
["4.59","-0.58","6","FICHI D'INDIA - Valenziani",2.1,"KG",4.0,1.0,null,0.56,{"$nulls":11},0.94,{"$nulls":4},0.92,{"$nulls":5},0.88,null,0.765,0.52]
["17.00","0.00","12","KIWI ARGUTA - Roncaglia",2.9,"PZ",1.0,17.0,null,1.0,null,null,1.0,2.0,null,null,1.0,null,null,3.0,null,2.0,{"$nulls":4},1.0,1.0,1.0,null,null,null,1.0,null,1.0,{"$nulls":5},2.0]
["8.03","-0.03","7","LIMONE PRIMOFIORE - Agrinova",2.5,"KG",8.0,1.0,{"$nulls":6},1.96,null,null,0.605,1.015,null,null,null,1.12,{"$nulls":5},0.58,{"$nulls":5},2.09,0.655]
["8.83","-0.32","5","MELE CRIMSON CRISP - Roncaglia",1.6,"KG",8.5,1.0,null,null,null,1.05,1.09,1.64,{"$nulls":14},1.03,{"$nulls":11},4.015]
["8.86","-0.36","7","MELE FUJION - Roncaglia",1.6,"KG",8.5,1.0,{"$nulls":5},2.585,1.125,{"$nulls":7},1.07,{"$nulls":7},1.095,null,null,null,0.985,{"$nulls":8},0.93,1.07]
["17.64","-0.64","11","MELE JONAGOLD - Roncaglia",1.5,"KG",8.5,2.0,null,1.19,null,null,2.165,null,2.205,null,1.2,{"$nulls":4},1.06,null,null,null,3.105,2.095,null,null,null,1.065,null,1.09,null,null,1.16,{"$nulls":7},1.305]
["2.07","-1.07","1","MELONE CANARY - Agrinova",1.1,"PZ",1.0,1.0,{"$nulls":35},2.07]
["8.80","0.21","8","PERE ABATE - Magagna Massimo",2.0,"KG",9.0,1.0,{"$nulls":4},0.71,1.58,1.505,null,0.425,null,1.595,null,null,null,0.785,{"$nulls":11},0.725,{"$nulls":8},1.47]
["6.05","-0.04","6","PERE KAISER - Roncaglia",2.1,"KG",6.0,1.0,null,null,null,0.705,null,null,0.6,{"$nulls":9},1.05,0.995,1.015,{"$nulls":17},1.68]
["6.72","0.29","5","POMPELMO STAR RUBY - Agrinova",2.3,"KG",7.0,1.0,null,null,null,2.03,null,0.955,null,null,0.96,{"$nulls":13},0.945,null,null,null,1.825]
["6.10","-0.09","5","SUSINE - Roncaglia",2.3,"KG",6.0,1.0,null,1.025,null,null,null,2.02,0.92,{"$nulls":17},1.055,null,1.075]
["18.16","-0.16","14","UVA APIRENA CRIMSON - Lacalamita Rosa",3.5,"KG",6.0,3.0,null,null,null,1.035,1.875,2.115,1.865,{"$nulls":7},1.925,null,0.32,2.145,1.06,0.52,null,null,0.945,null,1.04,null,0.91,0.905,{"$nulls":7},1.495]
["6.15","-0.15","6","UVA ITALIA -  Lacalamita Rosa",3.0,"KG",6.0,1.0,null,0.81,null,null,null,1.63,0.79,{"$nulls":15},0.78,{"$nulls":9},1.7,null,null,null,0.435]
["6.00","0.00","6","UVA REGAL (APIRENA BIANCA) -  Lacalamita Rosa",3.5,"KG",6.0,1.0,{"$nulls":6},1.09,{"$nulls":8},0.64,{"$nulls":4},0.635,null,0.985,{"$nulls":4},0.505,null,null,null,2.14]
["1.02","-0.02","2","AGLIO BIANCO - Az. Agr. Quirina",5.2,"KG",1.0,1.0,{"$nulls":10},0.525,{"$nulls":7},0.49]
["3.70","0.31","6","BARBABIETOLA ROSSA - Az.Agr.Giarone",1.6,"KG",4.0,1.0,{"$nulls":6},0.995,{"$nulls":6},0.685,{"$nulls":4},0.36,null,null,null,0.795,null,null,null,0.5,{"$nulls":5},0.36]
["5.62","-1.62","5","BIETOLE -  Claudio Bianchi",1.7,"KG",4.0,1.0,null,null,null,1.445,null,null,2.16,{"$nulls":6},0.56,null,null,0.65,{"$nulls":19},0.8]
["7.13","0.88","6","BROCCOLO FIOLARO DI CREAZZO - Bonatti Fiorenzo",1.8,"KG",4.0,2.0,1.49,{"$nulls":9},1.43,null,null,1.21,{"$nulls":12},1.285,{"$nulls":5},1.31,null,null,null,0.4]
["10.22","-0.22","8","CARDO ROMAGNOLO - Bonatti Fiorenzo",1.9,"KG",5.0,2.0,null,1.09,{"$nulls":15},1.53,0.96,null,1.12,null,1.46,{"$nulls":6},1.53,{"$nulls":5},1.15,1.38]
["8.16","-0.15","11","CAROTE - Consorzio Interregionale Ortofrutticolo",1.8,"KG",8.0,1.0,null,null,null,0.32,null,1.4,null,null,null,0.385,null,0.75,null,null,0.725,null,null,1.345,null,null,0.31,null,null,null,0.62,{"$nulls":4},0.38,{"$nulls":5},0.655,1.265]
["10.89","-0.89","5","CAVOLO CAPPUCCIO BIANCO - Claudio Bianchi",1.6,"KG",5.0,2.0,1.55,{"$nulls":12},1.09,{"$nulls":4},1.87,{"$nulls":5},0.75,{"$nulls":11},5.63]
["4.49","-0.49","4","CAVOLO NERO - Claudio Bianchi",2.0,"KG",4.0,1.0,1.01,0.55,{"$nulls":16},0.495,{"$nulls":13},2.43]
["2.80","1.20","2","CAVOLO RICCIO VERDE - Bonatti Fiorenzo",2.1,"KG",4.0,1.0,{"$nulls":18},1.33,{"$nulls":17},1.47]
["4.08","-0.08","4","CICORIA SELVATICA DA CAMPO- Ambiente Naturale",1.9,"KG",4.0,1.0,{"$nulls":9},0.815,{"$nulls":8},0.51,null,1.05,{"$nulls":5},1.7]
["5.27","-0.27","4","CIPOLLE BIONDE DORATE - Barbieri Angelo",1.1,"KG",5.0,1.0,{"$nulls":17},1.09,{"$nulls":6},1.085,{"$nulls":4},0.485,{"$nulls":6},2.61]
["2.52","-0.02","3","FOGLIA DI SENAPE ROSSA - Az.Agr.Giarone",1.9,"KG",2.5,1.0,{"$nulls":17},0.94,0.52,null,null,null,1.06]
["4.50","-0.49","4","INDIVIA SCAROLA - L' Ambiente Naturale",2.0,"KG",4.0,1.0,{"$nulls":19},1.08,1.22,null,null,null,0.94,{"$nulls":10},1.255]
["3.72","0.28","3","LATTUGA CANASTA - Bonatti Fiorenzo",1.9,"KG",4.0,1.0,{"$nulls":10},1.44,null,null,null,0.83,{"$nulls":7},1.45]
["5.22","-0.22","6","MELANZANE - F.lli Valenziani",2.0,"KG",5.0,1.0,null,0.98,null,null,null,0.74,{"$nulls":12},0.67,0.725,{"$nulls":4},1.5,null,null,0.6]
["12.07","-0.07","7","PATATE GIALLE - Consorzio Interregionale Ortofrutticolo",1.35,"KG",12.0,1.0,2.01,{"$nulls":9},1.04,null,null,1.055,null,null,null,2.025,{"$nulls":6},3.04,{"$nulls":4},1.87,{"$nulls":6},1.034]
["11.82","0.18","4","PATATE ROSSE - Consorzio Interregionale Ortofrutticolo",1.35,"KG",12.0,1.0,null,null,null,2.0,{"$nulls":7},3.07,{"$nulls":5},4.01,{"$nulls":17},2.74]
["12.16","-0.16","13","PEPERONI MISTI - La Quercia",1.9,"KG",4.0,3.0,0.885,0.88,null,null,1.765,0.975,null,null,null,0.46,0.935,0.925,null,0.895,{"$nulls":5},0.63,0.715,null,0.915,{"$nulls":6},0.965,{"$nulls":5},1.215]
["11.41","0.59","12","POMODORO TONDO A GRAPPOLO - Valenzani",2.5,"KG",6.0,2.0,1.17,null,null,null,0.65,0.985,{"$nulls":12},1.07,0.6,0.68,null,1.07,null,1.065,1.02,null,0.98,null,0.95,{"$nulls":5},1.17]
["0.00","0.00","8","POMODORO VAR. PICCADILLY - Valenziani",2.6,"KG",6.0,0.0,{"$nulls":4},0.0,0.0,{"$nulls":12},0.0,0.0,0.0,null,null,null,0.0,{"$nulls":4},0.0,{"$nulls":5},0.0]
["5.01","-0.01","8","RADICCHIO TONDO ROSSO - Ambiente Naturale",1.9,"KG",5.0,1.0,null,null,null,0.65,{"$nulls":13},0.56,0.58,0.625,0.45,{"$nulls":6},0.68,{"$nulls":7},0.94,0.52]
["6.41","-0.41","5","SEDANO - L'Ambiente Naturale",1.9,"KG",6.0,1.0,{"$nulls":6},1.25,{"$nulls":7},0.665,null,null,1.89,{"$nulls":4},1.34,{"$nulls":12},1.265]
["9.05","-0.05","8","SPINACI - Claudio Bianchi",2.9,"KG",3.0,3.0,null,0.75,null,null,null,1.88,{"$nulls":4},1.245,null,null,null,1.24,null,null,null,0.79,null,null,null,1.275,null,1.22,null,0.65]
["8.69","-0.19","7","VERZA - L'Ambiente Naturale",1.7,"KG",8.5,1.0,null,1.06,null,1.305,null,1.105,{"$nulls":14},1.34,null,1.126,{"$nulls":6},1.205,{"$nulls":6},1.545]
["10.10","-3.10","6","ZUCCA BUTTERNUT - Agrinova",1.2,"PZ",1.0,7.0,null,null,null,1.395,1.28,null,null,null,1.705,{"$nulls":4},1.83,{"$nulls":12},1.155,{"$nulls":5},2.735]
["9.52","-4.52","4","ZUCCA DELICA - Az. agr. Giarone",1.4,"PZ",1.0,5.0,{"$nulls":15},1.5,null,1.92,{"$nulls":4},1.675,{"$nulls":9},4.42]
["12.81","-0.81","13","ZUCCHINE  - Claudio Bianchi",1.9,"KG",6.0,2.0,null,0.995,null,null,1.015,0.99,null,null,null,1.19,null,1.07,null,0.51,null,null,0.525,null,1.05,1.26,0.475,null,1.06,{"$nulls":12},1.5,1.165]
["3.00","0.00","3","MANDORLE CON GUSCIO kg. 1 - Serra di Mezzo",3.8,"PZ",1.0,3.0,{"$nulls":14},1.0,{"$nulls":11},1.0,{"$nulls":5},1.0]
["3.00","0.00","3","MANDORLE SGUSCIATE gr. 500 - Serra di Mezzo",6.3,"PZ",1.0,3.0,{"$nulls":11},1.0,{"$nulls":5},1.0,{"$nulls":6},1.0]
["5.09","-0.09","5","NOCI FRANQUETTE CALIBRO 32-34 kg. 5 -  Spreafico",6.3,"KG",5.0,1.0,{"$nulls":6},1.025,{"$nulls":11},0.5,null,0.51,{"$nulls":5},2.035,{"$nulls":8},1.015]
["3.00","0.00","1","RISO BALDO BIANCO KG. 1 - Az. Agr. Di Rovasenda",3.3,"PZ",1.0,3.0,{"$nulls":26},3.0]
["1.00","0.00","1","RISO CARNAROLI BIANCO KG. 1 - Az. Agr. Di Cristiana Sartori",4.8,"PZ",1.0,1.0,{"$nulls":29},1.0]
["1.00","0.00","1","RISO CARNAROLI INTEGRALE KG. 1 - Az. Agr. Di Cristiana Sartori",4.6,"PZ",1.0,1.0,{"$nulls":17},1.0]
["4.00","0.00","2","RISO CARNAROLI SEMINTEGRALE KG. 1 - Az. Agr. Di Cristiana Sartori",4.6,"PZ",1.0,4.0,{"$nulls":17},1.0,{"$nulls":8},3.0]
["0.00","0.00","1","RISO ERMES INTEGRALE ROSSO KG. 0,5 - Az. Agr. Di Cristiana Sartori",3.3,"PZ",1.0,0.0,{"$nulls":17},0.0]
["2.00","0.00","1","RISO RIBE BIANCO KG. 1 - Terre di Lomellina",3.4,"PZ",1.0,2.0,{"$nulls":25},2.0]
["1.00","0.00","1","RISO ROSA MARCHETTI INTEGRALE KG. 1 - Az. Agr. Di Rovasenda",3.3,"PZ",1.0,1.0,{"$nulls":25},1.0]
["2.00","0.00","2","RISO VENERE INTEGRALE NERO KG. 0,5 - Az. Agr. Di Cristiana Sartori",3.3,"PZ",1.0,2.0,{"$nulls":25},1.0,null,null,null,1.0]
["0.00","0.00","1","CECI  conf. gr. 500 - Terra e Cielo",1.7,"PZ",1.0,0.0,{"$nulls":22},0.0]
["3.00","0.00","2","FAGIOLI CANNELLINI conf. kg. 1 - Agribosco",4.9,"PZ",1.0,3.0,{"$nulls":19},1.0,{"$nulls":12},2.0]
["1.00","0.00","1","CONFETTURA DI FRAGOLA  - GR. 230 - Rob del Bosco",3.1,"PZ",1.0,1.0,{"$nulls":26},1.0]
["1.00","0.00","1","CONFETTURA DI MELA - LAMPONE - VANIGLIA  - GR. 320   - Rampanelli",3.3,"PZ",1.0,1.0,1.0]
["1.00","0.00","1","MIELE DI ACACIA 500 gr. - Il Sentiero Coop.",6.3,"PZ",1.0,1.0,{"$nulls":14},1.0]
["1.00","0.00","1","MIELE DI BOSCO 500. GR. - L'Ape Felice",6.0,"PZ",1.0,1.0,{"$nulls":26},1.0]
["2.00","0.00","2","DADO VEGETALE gr. 220 - Rob del Bosco",2.6,"PZ",1.0,2.0,{"$nulls":10},1.0,{"$nulls":7},1.0]
["5.00","0.00","3","CRAUTI DEL CONTADINO - VASET. GR. 500 - BioTrentino",2.4,"PZ",1.0,5.0,{"$nulls":15},3.0,null,null,1.0,{"$nulls":6},1.0]
["1.00","0.00","1","SUGO ALLA NORMA gr. 280 - Coop Soc. Radici nel Fiume",2.6,"PZ",1.0,1.0,{"$nulls":10},1.0]
["5.00","7.00","4","PASSATA DI POMODORO BIO ML. 700 - La Terra & Cielo",1.6,"PZ",12.0,1.0,null,null,null,1.0,{"$nulls":5},1.0,null,2.0,{"$nulls":6},1.0]
["1.00","0.00","1","NETTARE DI ALBICOCCA 53% 700ml - Marchesini Daniele",2.2,"PZ",1.0,1.0,{"$nulls":24},1.0]
["6.00","6.00","3","SUCCO DI MELA 100% - BOTT. 1 L. - BioTrentino",2.3,"PZ",12.0,1.0,null,null,null,1.0,{"$nulls":14},1.0,{"$nulls":16},4.0]
["12.00","0.00","4","SUCCO DI MELA E ARANCIA 100% - BOTT. 750 ML - BioTrentino",1.7,"PZ",12.0,1.0,{"$nulls":8},4.0,{"$nulls":13},2.0,null,4.0,{"$nulls":4},2.0]
["4.00","2.00","3","SUCCO DI MELA E MIRTILLO 100% - BOTT. 750 M L. - BioTrentino",3.85,"PZ",6.0,1.0,{"$nulls":6},1.0,{"$nulls":11},1.0,null,null,null,2.0]
["2.00","0.00","2","SUCCO DI MELAGRANA 100% - BOTT. 330 ML. - BioTrentino",2.2,"PZ",1.0,2.0,{"$nulls":17},1.0,{"$nulls":11},1.0]
["5.00","0.00","3","VINO NERO AGOLA - 750 ML - Rampanelli",4.5,"PZ",1.0,5.0,{"$nulls":14},1.0,{"$nulls":14},3.0,null,null,1.0]
["1.00","0.00","1","VINO ROSATO ROSSAR - 750 ML - Rampanelli",4.5,"PZ",1.0,1.0,{"$nulls":32},1.0]
["2.00","0.00","1","BIRRA MONTANA PALE ALE  - 500 ML - BioTrentino",2.3,"PZ",1.0,2.0,{"$nulls":15},2.0]
["16.00","0.00","13","UOVA CAT. A (conf. 6 uova) - Bargero",1.95,"PZ",1.0,16.0,1.0,1.0,null,1.0,null,2.0,{"$nulls":7},2.0,1.0,null,null,1.0,1.0,1.0,null,null,1.0,null,1.0,{"$nulls":7},1.0,null,null,2.0]
["4.00","0.00","2","LATTE FRESCO PASTORIZZATO LT. 1 - Iris",1.6,"PZ",1.0,4.0,{"$nulls":13},1.0,{"$nulls":21},3.0]
["2.00","0.00","2","YOGURT AI CEREALI  LT.1 - Iris",4.4,"PZ",1.0,2.0,{"$nulls":10},1.0,{"$nulls":14},1.0]
["3.00","0.00","2","YOGURT AI CEREALI gr. 280 - Iris",1.8,"PZ",1.0,3.0,{"$nulls":19},1.0,null,null,2.0]
["1.00","0.00","1","YOGURT ALLA BANANA gr.280 - Iris",1.8,"PZ",1.0,1.0,{"$nulls":22},1.0]
["2.00","0.00","1","YOGURT ALLA FRAGOLA GR. 280 - Iris",1.8,"PZ",1.0,2.0,{"$nulls":22},2.0]
["4.00","0.00","3","YOGURT ALLA FRAGOLA GR. 500 - Iris",2.5,"PZ",1.0,4.0,{"$nulls":5},2.0,{"$nulls":14},1.0,{"$nulls":4},1.0]
["1.00","0.00","1","YOGURT ALL'ALBICOCCA gr. 280 - Iris",1.8,"PZ",1.0,1.0,{"$nulls":22},1.0]
["3.00","0.00","2","YOGURT BIANCO INTERO  gr. 280 - Iris",1.7,"PZ",1.0,3.0,null,null,null,2.0,{"$nulls":14},1.0]
["2.00","0.00","2","YOGURT BIANCO INTERO  LT. 1 - Iris",4.05,"PZ",1.0,2.0,null,1.0,{"$nulls":8},1.0]
["giacenze da settimane precedenti",null,null,null,"tot senza trasporto:",null,{"$f":"SUM(I98:BO98)","v":"€ 7.40"},null,{"$f":"SUMPRODUCT($E99:$E103,I99:I103)","v":"€ 0.00"},"€ 0.00","€ 0.00","€ 0.00","€ 0.00","€ 0.00","€ 0.00","€ 0.00","€ 0.00","€ 0.00","€ 0.00","€ 0.00","€ 0.00","€ 0.00","€ 0.00","€ 0.00","€ 5.25","€ 0.00","€ 0.00","€ 0.00","€ 0.00","€ 0.00","€ 0.00","€ 0.00","€ 0.00","€ 0.00","€ 0.00","€ 0.00","€ 0.00","€ 2.15","€ 0.00","€ 0.00","€ 0.00","€ 0.00","€ 0.00","€ 0.00","€ 0.00","€ 0.00","€ 0.00","€ 0.00","€ 0.00","€ 0.00","€ 0.00","€ 0.00","€ 0.00","€ 0.00","€ 0.00","€ 0.00","€ 0.00","€ 0.00","€ 0.00","€ 0.00","€ 0.00","€ 0.00","€ 0.00","€ 0.00","€ 0.00"]
[{"$f":"SUM(I99:BM99)","v":"0.00"},{"$f":"G99*H99-A99","v":"1.00"},{"$f":"COUNT(I99:BM99)","v":"0"},"PASSATA DI POMODORO BIO ML. 700 - La Terra & Cielo",1.6,"PZ",1.0,1.0]
["0.00","3.00","0","SUCCO DI MELA E ARANCIA 100% - BOTT. 750 ML - BioTrentino",1.7,"PZ",3.0,1.0]
["3.00","1.00","1","SUCCO DI MELA E SAMBUCO 100% - BOTT. 750 M L. - BioTrentino",1.75,"PZ",4.0,1.0,{"$nulls":16},3.0]
["1.00","4.00","1","SUCCO DI MELA E ZENZERO 100% - BOTT. 750 M L. - BioTrentino",2.15,"PZ",5.0,1.0,{"$nulls":29},1.0]
["0.00","3.00","0","SUCCO DI PERA E MELA - BOTT. 750 ML - Bio Trentino",2.15,"PZ",3.0,1.0]

{"sheet":"Tab2","index":1,"n_rows":15,"n_cols":65,"rows_kept":15,"cut":false,"hidden":false,"merged":[[4,4,4,5],[4,0,4,3],[15,4,15,5],[15,0,15,3],[15,6,15,7],[4,6,4,7],[0,6,1,7],[0,0,1,2],[2,0,2,3]]}
["Pane",null,null,"Non consegnati: i prodotti evidenziati in rosso","Tot con Trasp.",null,{"$f":"SUM(I1:BM1)","v":"€ 94"},null,{"$f":"IF(I2=0,0,I2+$F2*(I2/SUM($I2:$BM2)))","v":"€ 7.40"},"€ 5.35","€ 0.00","€ 0.00","€ 0.00","€ 13.20","€ 0.00","€ 0.00","€ 5.20","€ 0.00","€ 6.60","€ 7.75","€ 0.00","€ 2.35","€ 6.60","€ 0.00","€ 0.00","€ 7.45","€ 0.00","€ 2.20","€ 4.90","€ 0.00","€ 5.20","€ 0.00","€ 0.00","€ 4.55","€ 0.00","€ 0.00","€ 0.00","€ 5.40","€ 0.00","€ 0.00","€ 0.00","€ 0.00","€ 0.00","€ 9.65","€ 0.00","€ 0.00","€ 0.00","€ 0.00","€ 0.00","€ 0.00","€ 0.00","€ 0.00","€ 0.00","€ 0.00","€ 0.00","€ 0.00","€ 0.00","€ 0.00","€ 0.00","€ 0.00","€ 0.00","€ 0.00","€ 0.00","€ 0.00","€ 0.00"]
[null,null,null,"Con variazioni: i prodotti evidenziati in arancione","Trasporto:",0.0,null,null,{"$f":"I5+I16","v":"€ 7.40"},"€ 5.35","€ 0.00","€ 0.00","€ 0.00","€ 13.20","€ 0.00","€ 0.00","€ 5.20","€ 0.00","€ 6.60","€ 7.75","€ 0.00","€ 2.35","€ 6.60","€ 0.00","€ 0.00","€ 7.45","€ 0.00","€ 2.20","€ 4.90","€ 0.00","€ 5.20","€ 0.00","€ 0.00","€ 4.55","€ 0.00","€ 0.00","€ 0.00","€ 5.40","€ 0.00","€ 0.00","€ 0.00","€ 0.00","€ 0.00","€ 9.65","€ 0.00","€ 0.00","€ 0.00","€ 0.00","€ 0.00","€ 0.00","€ 0.00","€ 0.00","€ 0.00","€ 0.00","€ 0.00","€ 0.00","€ 0.00","€ 0.00","€ 0.00","€ 0.00","€ 0.00","€ 0.00","€ 0.00","€ 0.00","€ 0.00"]
["tutti i prodotti NON Aequos senza costi di trasporto e da NON pesare",{"$nulls":7},{"$f":"'Tab1'!I3","v":"Nino 01 - Alessandro"},{"$f":"'Tab1'!J3","v":"Paolo 02 - Cattorini"},{"$f":"'Tab1'!K3","v":"Giuseppe 03 - Dominici"},{"$f":"'Tab1'!L3","v":"Simona 04 - Riganti"},{"$f":"'Tab1'!M3","v":"Sara 05 - Salvalaglio"},{"$f":"'Tab1'!N3","v":"Fabio 06 - Dal Soglio"},{"$f":"'Tab1'!O3","v":"Cinzia 07 - Vicario"},{"$f":"'Tab1'!P3","v":"Daniela 08 - Achler"},{"$f":"'Tab1'!Q3","v":"Carlotta 09 - Anzini"},{"$f":"'Tab1'!R3","v":"Ada 10 - Benigna"},{"$f":"'Tab1'!S3","v":"Raffaello 11 - Bezzon"},{"$f":"'Tab1'!T3","v":"Roberta 12 - Castiglioni"},{"$f":"'Tab1'!U3","v":"Marco 13 - Cavone"},{"$f":"'Tab1'!V3","v":"Guia 14 - Comini"},{"$f":"'Tab1'!W3","v":"Paolo 15 - Cordilani"},{"$f":"'Tab1'!X3","v":"Elena 16 - Di Nisio"},{"$f":"'Tab1'!Y3","v":"Germana 18 - Drago"},{"$f":"'Tab1'!Z3","v":"Mina 20 - Ferrario"},{"$f":"'Tab1'!AA3","v":"Francesca 22 - Giannuzzi"},{"$f":"'Tab1'!AB3","v":"Ester 23 - Grasselli"},{"$f":"'Tab1'!AC3","v":"Alberto 24 - Longoni"},{"$f":"'Tab1'!AD3","v":"Daniela 27 - Pariani"},{"$f":"'Tab1'!AE3","v":"Italo 28 - Raffaelli"},{"$f":"'Tab1'!AF3","v":"Silvia 29 - Raimondi"},{"$f":"'Tab1'!AG3","v":"Stefano 31 - Tonazzi"},{"$f":"'Tab1'!AH3","v":"Diego 33 - Valceschini"},{"$f":"'Tab1'!AI3","v":"Alberto 34 - Venegoni"},{"$f":"'Tab1'!AJ3","v":"Monica 35 - Vernocchi"},{"$f":"'Tab1'!AK3","v":"Loredana 37 - Colombo"},{"$f":"'Tab1'!AL3","v":"Stefano 38 - Colombo"},{"$f":"'Tab1'!AM3","v":"Alessandra 39 - Tartaro"},{"$f":"'Tab1'!AN3","v":"Stefano 42 - Torzuoli"},{"$f":"'Tab1'!AO3","v":"Emilia 43 - Armiraglio"},{"$f":"'Tab1'!AP3","v":"Elisabetta 44 - Tosi"},{"$f":"'Tab1'!AQ3","v":"Rosangela 46 - Valli"},{"$f":"'Tab1'!AR3","v":"Paola 48 - Dusi"},{"$f":"'Tab1'!AS3","v":"Paolo 49 - Carrera"},{"$f":"'Tab1'!AT3","v":""},{"$f":"'Tab1'!AU3","v":""},{"$f":"'Tab1'!AV3","v":""},{"$f":"'Tab1'!AW3","v":""},{"$f":"'Tab1'!AX3","v":""},{"$f":"'Tab1'!AY3","v":""},{"$f":"'Tab1'!AZ3","v":""},{"$f":"'Tab1'!BA3","v":""},{"$f":"'Tab1'!BB3","v":""},{"$f":"'Tab1'!BC3","v":""},{"$f":"'Tab1'!BD3","v":""},{"$f":"'Tab1'!BE3","v":""},{"$f":"'Tab1'!BF3","v":""},{"$f":"'Tab1'!BG3","v":""},{"$f":"'Tab1'!BH3","v":""},{"$f":"'Tab1'!BI3","v":""},{"$f":"'Tab1'!BJ3","v":""},{"$f":"'Tab1'!BK3","v":""},{"$f":"'Tab1'!BL3","v":""},{"$f":"'Tab1'!BM3","v":""}]
["TOT pesi","Ecce denza","quanti hanno ordinato","Prodotto","Prezzo\nper UM","UM","Peso\nCollo","Colli\nda ordinare",{"$f":"'Tab1'!I4","v":"\nninoalessandro.bargas@gmail.com"},{"$f":"'Tab1'!J4","v":"\npaolo.cattorini@gmail.com"},{"$f":"'Tab1'!K4","v":"\ngiuseppe.pino.dominici@gmail.com"},{"$f":"'Tab1'!L4","v":"\nsriganti.bargas@gmail.com"},{"$f":"'Tab1'!M4","v":"\nsarasalvi86@libero.it"},{"$f":"'Tab1'!N4","v":"\nfabiodalsoglio@hotmail.com"},{"$f":"'Tab1'!O4","v":"\nvicario.cinzia@gmail.com"},{"$f":"'Tab1'!P4","v":"\nciapparelligiovanni@libero.it"},{"$f":"'Tab1'!Q4","v":"\ncarlotta.anzini@gmail.com"},{"$f":"'Tab1'!R4","v":"\nada.benigna@gmail.com"},{"$f":"'Tab1'!S4","v":"\nraffaello.bezzon@gmail.com"},{"$f":"'Tab1'!T4","v":"\nrcastiglio@libero.it"},{"$f":"'Tab1'!U4","v":"\nmarco.cavone@gmail.com"},{"$f":"'Tab1'!V4","v":"\nguya.c@hotmail.it"},{"$f":"'Tab1'!W4","v":"\nvapaio@gmail.com"},{"$f":"'Tab1'!X4","v":"\neldinis@libero.it"},{"$f":"'Tab1'!Y4","v":"\ndragogermana@libero.it"},{"$f":"'Tab1'!Z4","v":"\nminaferrario@gmail.com"},{"$f":"'Tab1'!AA4","v":"\ngiannuzzifrancesca@virgilio.it"},{"$f":"'Tab1'!AB4","v":"\ngrasselli67@gmail.com"},{"$f":"'Tab1'!AC4","v":"\nalbertolongoni@alice.it"},{"$f":"'Tab1'!AD4","v":"\ndaniela.pariani@gmail.com"},{"$f":"'Tab1'!AE4","v":"\nitalo.donata@gmail.com"},{"$f":"'Tab1'!AF4","v":"\nsilvia.raimondi@telesystems-pro.it"},{"$f":"'Tab1'!AG4","v":"\ntonazzistefano@hotmail.it"},{"$f":"'Tab1'!AH4","v":"\ndiego.valceschini@libero.it"},{"$f":"'Tab1'!AI4","v":"\navenus2204@gmail.com"},{"$f":"'Tab1'!AJ4","v":"\nmonicavrn@hotmail.com"},{"$f":"'Tab1'!AK4","v":"\nloredcol@gmail.com"},{"$f":"'Tab1'!AL4","v":"\nstefano1963.sc@gmail.com"},{"$f":"'Tab1'!AM4","v":"\nalessandratartaro@gmail.com"},{"$f":"'Tab1'!AN4","v":"\nstefano.torzuoli@gmail.com"},{"$f":"'Tab1'!AO4","v":"\nemiliarosacarla@libero.it"},{"$f":"'Tab1'!AP4","v":"\nelisabetta.tosi@avvocatotosi.it"},{"$f":"'Tab1'!AQ4","v":"\nrosangela.valli@libero.it"},{"$f":"'Tab1'!AR4","v":"\npaola.dusi@gmail.com"},{"$f":"'Tab1'!AS4","v":"\ngrad.carrera@gmail.com"},{"$f":"'Tab1'!AT4","v":""},{"$f":"'Tab1'!AU4","v":""},{"$f":"'Tab1'!AV4","v":""},{"$f":"'Tab1'!AW4","v":""},{"$f":"'Tab1'!AX4","v":""},{"$f":"'Tab1'!AY4","v":""},{"$f":"'Tab1'!AZ4","v":""},{"$f":"'Tab1'!BA4","v":""},{"$f":"'Tab1'!BB4","v":""},{"$f":"'Tab1'!BC4","v":""},{"$f":"'Tab1'!BD4","v":""},{"$f":"'Tab1'!BE4","v":""},{"$f":"'Tab1'!BF4","v":""},{"$f":"'Tab1'!BG4","v":""},{"$f":"'Tab1'!BH4","v":""},{"$f":"'Tab1'!BI4","v":""},{"$f":"'Tab1'!BJ4","v":""},{"$f":"'Tab1'!BK4","v":""},{"$f":"'Tab1'!BL4","v":""},{"$f":"'Tab1'!BM4","v":""}]
["PANE di JOSEPH",null,null,null,"tot senza trasporto:",null,{"$f":"SUM(I5:BM5)","v":"€ 93.80"},null,{"$f":"SUMPRODUCT($E6:$E15,I6:I15)","v":"€ 7.40"},"€ 5.35","€ 0.00","€ 0.00","€ 0.00","€ 13.20","€ 0.00","€ 0.00","€ 5.20","€ 0.00","€ 6.60","€ 7.75","€ 0.00","€ 2.35","€ 6.60","€ 0.00","€ 0.00","€ 7.45","€ 0.00","€ 2.20","€ 4.90","€ 0.00","€ 5.20","€ 0.00","€ 0.00","€ 4.55","€ 0.00","€ 0.00","€ 0.00","€ 5.40","€ 0.00","€ 0.00","€ 0.00","€ 0.00","€ 0.00","€ 9.65","€ 0.00","€ 0.00","€ 0.00","€ 0.00","€ 0.00","€ 0.00","€ 0.00","€ 0.00","€ 0.00","€ 0.00","€ 0.00","€ 0.00","€ 0.00","€ 0.00","€ 0.00","€ 0.00","€ 0.00","€ 0.00","€ 0.00","€ 0.00","€ 0.00"]
[{"$f":"SUM(I6:BM6)","v":"3.00"},{"$f":"G6*H6-A6","v":"0.00"},{"$f":"COUNT(I6:BM6)","v":"1"},"FOCACCIA DI GRANO DURO (trancio da 135/140 gr) - viene infornato con almeno 3 pz in tutto",1.0,"PZ",1.0,3.0,null,3.0]
["1.00","0.00","1","FOCACCIA DI GRANO DURO ALLE OLIVE (trancio da 135/140 gr) - viene infornato con almeno 3 pz in tutto",1.3,"PZ",1.0,1.0,{"$nulls":35},1.0]
["13.00","0.00","8","GRISSINI DI RISO, sacchetto in plastica sigillato (confezione da 250 gr. circa) - viene infornato con almeno 5 pz in tutto",2.6,"PZ",1.0,13.0,2.0,{"$nulls":4},2.0,null,null,2.0,null,null,2.0,{"$nulls":8},1.0,null,2.0,{"$nulls":6},1.0,{"$nulls":5},1.0]
["4.00","0.00","4","PANE AI 5 CEREALI (filone da 500 gr circa) - viene infornato con almeno 5 pz in tutto",2.35,"PZ",1.0,4.0,null,1.0,{"$nulls":8},1.0,null,null,1.0,{"$nulls":11},1.0]
["3.00","0.00","2","PANE CON UVETTA (filoncino da 150 gr circa)",1.2,"PZ",1.0,3.0,{"$nulls":5},2.0,{"$nulls":29},1.0]
["1.00","0.00","1","PANE DI GRANO DURO (filone da 500 gr circa) - viene infornato con almeno 5 pz in tutto",2.3,"PZ",1.0,1.0,{"$nulls":20},1.0]
["4.00","0.00","3","PANE DI SEGALE (pagnotta da 500 gr) - viene infornato con almeno 5 pz in tutto",2.8,"PZ",1.0,4.0,{"$nulls":5},2.0,{"$nulls":23},1.0,{"$nulls":5},1.0]
["7.00","0.00","5","PANE INTEGRALE (filone da 500 gr circa) - viene infornato con almeno 5 pz in tutto",2.2,"PZ",1.0,7.0,1.0,{"$nulls":13},3.0,null,null,1.0,null,1.0,{"$nulls":5},1.0]
["4.00","0.00","2","PIZZA DI GRANO DURO (trancio da 170/175 gr) - viene infornato con almeno 3 pz in tutto",1.75,"PZ",1.0,4.0,{"$nulls":17},3.0,{"$nulls":17},1.0]
["8.00","0.00","2","PIZZETTE TONDE DI GRANO DURO (80/85 gr cad)",0.85,"PZ",1.0,8.0,{"$nulls":10},5.0,3.0]

{"sheet":"Tab5","index":2,"n_rows":44,"n_cols":65,"rows_kept":44,"cut":false,"hidden":false,"merged":[[0,6,1,7],[0,0,1,2],[0,3,1,3],[2,0,2,3],[4,0,4,3],[4,4,4,5],[2,5,2,7],[4,6,4,7]]}
["Carni rosse",null,null,null,"Tot con Trasp.",null,{"$f":"SUM(I1:BM1)","v":"€ 1,575"},null,{"$f":"IF(I2=0,0,I2+$F2*(I2/SUM($I2:$BM2)))","v":"€ 108.69"},"€ 0.00","€ 0.00","€ 32.31","€ 30.42","€ 19.31","€ 56.22","€ 0.00","€ 84.02","€ 0.00","€ 0.00","€ 206.59","€ 162.36","€ 10.58","€ 32.96","€ 0.00","€ 0.00","€ 60.00","€ 76.65","€ 28.55","€ 194.04","€ 0.00","€ 95.34","€ 0.00","€ 101.22","€ 0.00","€ 0.00","€ 0.00","€ 0.00","€ 199.24","€ 0.00","€ 0.00","€ 0.00","€ 0.00","€ 0.00","€ 76.24","€ 0.00","€ 0.00","€ 0.00","€ 0.00","€ 0.00","€ 0.00","€ 0.00","€ 0.00","€ 0.00","€ 0.00","€ 0.00","€ 0.00","€ 0.00","€ 0.00","€ 0.00","€ 0.00","€ 0.00","€ 0.00","€ 0.00","€ 0.00","€ 0.00"]
[{"$nulls":4},"Trasporto:",0.0,null,null,{"$f":"I5","v":"€ 108.69"},"€ 0.00","€ 0.00","€ 32.31","€ 30.42","€ 19.31","€ 56.22","€ 0.00","€ 84.02","€ 0.00","€ 0.00","€ 206.59","€ 162.36","€ 10.58","€ 32.96","€ 0.00","€ 0.00","€ 60.00","€ 76.65","€ 28.55","€ 194.04","€ 0.00","€ 95.34","€ 0.00","€ 101.22","€ 0.00","€ 0.00","€ 0.00","€ 0.00","€ 199.24","€ 0.00","€ 0.00","€ 0.00","€ 0.00","€ 0.00","€ 76.24","€ 0.00","€ 0.00","€ 0.00","€ 0.00","€ 0.00","€ 0.00","€ 0.00","€ 0.00","€ 0.00","€ 0.00","€ 0.00","€ 0.00","€ 0.00","€ 0.00","€ 0.00","€ 0.00","€ 0.00","€ 0.00","€ 0.00","€ 0.00","€ 0.00"]
[{"$nulls":5},"inserire eventuali costi di trasporto",null,null,{"$f":"'Tab1'!I3","v":"Nino 01 - Alessandro"},{"$f":"'Tab1'!J3","v":"Paolo 02 - Cattorini"},{"$f":"'Tab1'!K3","v":"Giuseppe 03 - Dominici"},{"$f":"'Tab1'!L3","v":"Simona 04 - Riganti"},{"$f":"'Tab1'!M3","v":"Sara 05 - Salvalaglio"},{"$f":"'Tab1'!N3","v":"Fabio 06 - Dal Soglio"},{"$f":"'Tab1'!O3","v":"Cinzia 07 - Vicario"},{"$f":"'Tab1'!P3","v":"Daniela 08 - Achler"},{"$f":"'Tab1'!Q3","v":"Carlotta 09 - Anzini"},{"$f":"'Tab1'!R3","v":"Ada 10 - Benigna"},{"$f":"'Tab1'!S3","v":"Raffaello 11 - Bezzon"},{"$f":"'Tab1'!T3","v":"Roberta 12 - Castiglioni"},{"$f":"'Tab1'!U3","v":"Marco 13 - Cavone"},{"$f":"'Tab1'!V3","v":"Guia 14 - Comini"},{"$f":"'Tab1'!W3","v":"Paolo 15 - Cordilani"},{"$f":"'Tab1'!X3","v":"Elena 16 - Di Nisio"},{"$f":"'Tab1'!Y3","v":"Germana 18 - Drago"},{"$f":"'Tab1'!Z3","v":"Mina 20 - Ferrario"},{"$f":"'Tab1'!AA3","v":"Francesca 22 - Giannuzzi"},{"$f":"'Tab1'!AB3","v":"Ester 23 - Grasselli"},{"$f":"'Tab1'!AC3","v":"Alberto 24 - Longoni"},{"$f":"'Tab1'!AD3","v":"Daniela 27 - Pariani"},{"$f":"'Tab1'!AE3","v":"Italo 28 - Raffaelli"},{"$f":"'Tab1'!AF3","v":"Silvia 29 - Raimondi"},{"$f":"'Tab1'!AG3","v":"Stefano 31 - Tonazzi"},{"$f":"'Tab1'!AH3","v":"Diego 33 - Valceschini"},{"$f":"'Tab1'!AI3","v":"Alberto 34 - Venegoni"},{"$f":"'Tab1'!AJ3","v":"Monica 35 - Vernocchi"},{"$f":"'Tab1'!AK3","v":"Loredana 37 - Colombo"},{"$f":"'Tab1'!AL3","v":"Stefano 38 - Colombo"},{"$f":"'Tab1'!AM3","v":"Alessandra 39 - Tartaro"},{"$f":"'Tab1'!AN3","v":"Stefano 42 - Torzuoli"},{"$f":"'Tab1'!AO3","v":"Emilia 43 - Armiraglio"},{"$f":"'Tab1'!AP3","v":"Elisabetta 44 - Tosi"},{"$f":"'Tab1'!AQ3","v":"Rosangela 46 - Valli"},{"$f":"'Tab1'!AR3","v":"Paola 48 - Dusi"},{"$f":"'Tab1'!AS3","v":"Paolo 49 - Carrera"},{"$f":"'Tab1'!AT3","v":""},{"$f":"'Tab1'!AU3","v":""},{"$f":"'Tab1'!AV3","v":""},{"$f":"'Tab1'!AW3","v":""},{"$f":"'Tab1'!AX3","v":""},{"$f":"'Tab1'!AY3","v":""},{"$f":"'Tab1'!AZ3","v":""},{"$f":"'Tab1'!BA3","v":""},{"$f":"'Tab1'!BB3","v":""},{"$f":"'Tab1'!BC3","v":""},{"$f":"'Tab1'!BD3","v":""},{"$f":"'Tab1'!BE3","v":""},{"$f":"'Tab1'!BF3","v":""},{"$f":"'Tab1'!BG3","v":""},{"$f":"'Tab1'!BH3","v":""},{"$f":"'Tab1'!BI3","v":""},{"$f":"'Tab1'!BJ3","v":""},{"$f":"'Tab1'!BK3","v":""},{"$f":"'Tab1'!BL3","v":""},{"$f":"'Tab1'!BM3","v":""}]
["TOT pesi","Ecce denza","quanti hanno ordinato","Prodotto","Prezzo\nper UM","UM","Peso\nCollo","Colli\nda ordinare",{"$f":"'Tab1'!I4","v":"\nninoalessandro.bargas@gmail.com"},{"$f":"'Tab1'!J4","v":"\npaolo.cattorini@gmail.com"},{"$f":"'Tab1'!K4","v":"\ngiuseppe.pino.dominici@gmail.com"},{"$f":"'Tab1'!L4","v":"\nsriganti.bargas@gmail.com"},{"$f":"'Tab1'!M4","v":"\nsarasalvi86@libero.it"},{"$f":"'Tab1'!N4","v":"\nfabiodalsoglio@hotmail.com"},{"$f":"'Tab1'!O4","v":"\nvicario.cinzia@gmail.com"},{"$f":"'Tab1'!P4","v":"\nciapparelligiovanni@libero.it"},{"$f":"'Tab1'!Q4","v":"\ncarlotta.anzini@gmail.com"},{"$f":"'Tab1'!R4","v":"\nada.benigna@gmail.com"},{"$f":"'Tab1'!S4","v":"\nraffaello.bezzon@gmail.com"},{"$f":"'Tab1'!T4","v":"\nrcastiglio@libero.it"},{"$f":"'Tab1'!U4","v":"\nmarco.cavone@gmail.com"},{"$f":"'Tab1'!V4","v":"\nguya.c@hotmail.it"},{"$f":"'Tab1'!W4","v":"\nvapaio@gmail.com"},{"$f":"'Tab1'!X4","v":"\neldinis@libero.it"},{"$f":"'Tab1'!Y4","v":"\ndragogermana@libero.it"},{"$f":"'Tab1'!Z4","v":"\nminaferrario@gmail.com"},{"$f":"'Tab1'!AA4","v":"\ngiannuzzifrancesca@virgilio.it"},{"$f":"'Tab1'!AB4","v":"\ngrasselli67@gmail.com"},{"$f":"'Tab1'!AC4","v":"\nalbertolongoni@alice.it"},{"$f":"'Tab1'!AD4","v":"\ndaniela.pariani@gmail.com"},{"$f":"'Tab1'!AE4","v":"\nitalo.donata@gmail.com"},{"$f":"'Tab1'!AF4","v":"\nsilvia.raimondi@telesystems-pro.it"},{"$f":"'Tab1'!AG4","v":"\ntonazzistefano@hotmail.it"},{"$f":"'Tab1'!AH4","v":"\ndiego.valceschini@libero.it"},{"$f":"'Tab1'!AI4","v":"\navenus2204@gmail.com"},{"$f":"'Tab1'!AJ4","v":"\nmonicavrn@hotmail.com"},{"$f":"'Tab1'!AK4","v":"\nloredcol@gmail.com"},{"$f":"'Tab1'!AL4","v":"\nstefano1963.sc@gmail.com"},{"$f":"'Tab1'!AM4","v":"\nalessandratartaro@gmail.com"},{"$f":"'Tab1'!AN4","v":"\nstefano.torzuoli@gmail.com"},{"$f":"'Tab1'!AO4","v":"\nemiliarosacarla@libero.it"},{"$f":"'Tab1'!AP4","v":"\nelisabetta.tosi@avvocatotosi.it"},{"$f":"'Tab1'!AQ4","v":"\nrosangela.valli@libero.it"},{"$f":"'Tab1'!AR4","v":"\npaola.dusi@gmail.com"},{"$f":"'Tab1'!AS4","v":"\ngrad.carrera@gmail.com"},{"$f":"'Tab1'!AT4","v":""},{"$f":"'Tab1'!AU4","v":""},{"$f":"'Tab1'!AV4","v":""},{"$f":"'Tab1'!AW4","v":""},{"$f":"'Tab1'!AX4","v":""},{"$f":"'Tab1'!AY4","v":""},{"$f":"'Tab1'!AZ4","v":""},{"$f":"'Tab1'!BA4","v":""},{"$f":"'Tab1'!BB4","v":""},{"$f":"'Tab1'!BC4","v":""},{"$f":"'Tab1'!BD4","v":""},{"$f":"'Tab1'!BE4","v":""},{"$f":"'Tab1'!BF4","v":""},{"$f":"'Tab1'!BG4","v":""},{"$f":"'Tab1'!BH4","v":""},{"$f":"'Tab1'!BI4","v":""},{"$f":"'Tab1'!BJ4","v":""},{"$f":"'Tab1'!BK4","v":""},{"$f":"'Tab1'!BL4","v":""},{"$f":"'Tab1'!BM4","v":""}]
["Carni rosse",null,null,null,"tot senza trasporto:",null,{"$f":"SUM(I5:BM5)","v":"€ 1,574.74"},null,108.69,0.0,0.0,32.31,30.42,19.31,56.22,0.0,84.02,0.0,0.0,206.59,162.36,10.58,32.96,0.0,0.0,60.0,76.65,28.55,194.04,0.0,95.34,0.0,101.22,0.0,0.0,0.0,0.0,199.24,0.0,0.0,0.0,0.0,0.0,76.24,0.0,0.0,0.0,0.0,0.0,{"$f":"SUMPRODUCT($E6:$E16,AX6:AX16)","v":"€ 0.00"},"€ 0.00","€ 0.00","€ 0.00","€ 0.00","€ 0.00","€ 0.00","€ 0.00","€ 0.00","€ 0.00","€ 0.00","€ 0.00","€ 0.00","€ 0.00","€ 0.00","€ 0.00"]
[{"$f":"SUM(I6:BM6)","v":"1.00"},0.0,{"$f":"COUNT(I6:BM6)","v":"1"},"BOX MISTO BIO (5 Kg totale 55 €)",60.0,"PZ",1.0,1.0,{"$nulls":17},1.0]
["1.00",0.0,"1","BOX TOP BIO (4 Kg totale 60 €)",66.0,"PZ",1.0,1.0,{"$nulls":20},1.0]
["5.00",0.0,"3","Costate fiorentine (confezione da 1 Kg)",27.4,"PZ",1.0,5.0,{"$nulls":6},2.0,{"$nulls":5},2.0,{"$nulls":9},1.0]
["3.00",0.0,"1","Riso Carnaroli semi-integrale - confezione da 1 Kg",3.0,"PZ",1.0,3.0,{"$nulls":11},3.0]
["5.00",0.0,"2","Riso Carnaroli superfino - confezione da 1 Kg",3.0,"PZ",1.0,5.0,{"$nulls":5},2.0,null,null,3.0]
["2.00",0.0,"2","VITELLONE LIMOUSINE BIO - arrosto - confezione da 1 Kg",14.2,"PZ",1.0,2.0,{"$nulls":20},1.0,null,null,null,1.0]
["7.00",0.0,"4","VITELLONE LIMOUSINE BIO - arrosto - confezione da 500 Gr",7.1,"PZ",1.0,7.0,null,null,null,1.0,{"$nulls":4},2.0,null,null,2.0,{"$nulls":23},2.0]
["6.00",0.0,"4","VITELLONE LIMOUSINE BIO - bistecche scamone - confezione da 500 Gr",9.85,"PZ",1.0,6.0,{"$nulls":8},3.0,{"$nulls":9},1.0,1.0,{"$nulls":9},1.0]
["1.00",0.0,"1","VITELLONE LIMOUSINE BIO - bistecche scelte - confezione da 1 Kg",17.5,"PZ",1.0,1.0,{"$nulls":14},1.0]
["2.00",0.0,"1","VITELLONE LIMOUSINE BIO - bistecche scelte - confezione da 500 Gr",8.75,"PZ",1.0,2.0,{"$nulls":29},2.0]
["2.00",0.0,"2","VITELLONE LIMOUSINE BIO - bollito biancostato - confezione da 1 Kg",8.7,"PZ",1.0,2.0,{"$nulls":22},1.0,{"$nulls":6},1.0]
["10.00",0.0,"8","VITELLONE LIMOUSINE BIO - bollito biancostato - confezione da 500 Gr",4.35,"PZ",1.0,10.0,{"$nulls":4},1.0,1.0,{"$nulls":5},2.0,null,null,1.0,null,null,null,1.0,1.0,1.0,null,null,null,2.0]
["2.00",0.0,"2","VITELLONE LIMOUSINE BIO - cappello del prete (per brasato o bollito) - confezione da 1 Kg",16.4,"PZ",1.0,2.0,{"$nulls":20},1.0,{"$nulls":8},1.0]
["4.00",0.0,"4","VITELLONE LIMOUSINE BIO - cappello del prete (per brasato o bollito) - confezione da 500 Gr",8.2,"PZ",1.0,4.0,{"$nulls":19},1.0,1.0,null,null,null,1.0,{"$nulls":4},1.0]
["4.00",0.0,"3","VITELLONE LIMOUSINE BIO - carpaccio - confezione da 500 Gr",10.45,"PZ",1.0,4.0,2.0,{"$nulls":12},1.0,{"$nulls":15},1.0]
["3.00",0.0,"2","VITELLONE LIMOUSINE BIO - coda - confezione da 1 Kg",10.9,"PZ",1.0,3.0,{"$nulls":24},2.0,{"$nulls":4},1.0]
["1.00",0.0,"1","VITELLONE LIMOUSINE BIO - coda - confezione da 500 Gr",5.45,"PZ",1.0,1.0,{"$nulls":18},1.0]
["1.00",0.0,"1","VITELLONE LIMOUSINE BIO - controfiletto - confezione da 1 Kg",24.2,"PZ",1.0,1.0,1.0]
["8.00",0.0,"5","VITELLONE LIMOUSINE BIO - controfiletto - confezione da 500 Gr",12.1,"PZ",1.0,8.0,{"$nulls":11},2.0,2.0,{"$nulls":5},1.0,{"$nulls":5},2.0,{"$nulls":4},1.0]
["1.00",0.0,"1","VITELLONE LIMOUSINE BIO - costate - confezione da 1 Kg",24.2,"PZ",1.0,1.0,{"$nulls":22},1.0]
["1.00",0.0,"1","VITELLONE LIMOUSINE BIO - costate - confezione da 500 Gr",12.1,"PZ",1.0,1.0,{"$nulls":29},1.0]
["2.00",0.0,"2","VITELLONE LIMOUSINE BIO - fegato - confezione da 500 Gr",4.95,"PZ",1.0,2.0,{"$nulls":18},1.0,{"$nulls":5},1.0]
["6.00",0.0,"3","VITELLONE LIMOUSINE BIO - filetto - confezione da 500 Gr",19.5,"PZ",1.0,6.0,2.0,{"$nulls":11},3.0,{"$nulls":16},1.0]
["1.00",0.0,"1","VITELLONE LIMOUSINE BIO - lingua - confezione da 1 Kg",10.9,"PZ",1.0,1.0,{"$nulls":20},1.0]
["1.00",0.0,"1","VITELLONE LIMOUSINE BIO - lingua - confezione da 500 Gr",5.45,"PZ",1.0,1.0,{"$nulls":5},1.0]
["3.00",0.0,"3","VITELLONE LIMOUSINE BIO - macinato sceltissimo - confezione da 1 Kg",10.9,"PZ",1.0,3.0,{"$nulls":4},1.0,{"$nulls":9},1.0,{"$nulls":7},1.0]
["20.00",0.0,"9","VITELLONE LIMOUSINE BIO - macinato sceltissimo - confezione da 500 Gr",5.45,"PZ",1.0,20.0,3.0,null,null,2.0,null,1.0,null,null,2.0,null,null,5.0,{"$nulls":7},1.0,1.0,{"$nulls":8},1.0,{"$nulls":5},4.0]
["11.00",0.0,"6","VITELLONE LIMOUSINE BIO - ossi buchi - confezione da 1 Kg",10.9,"PZ",1.0,11.0,{"$nulls":11},4.0,{"$nulls":6},1.0,null,2.0,null,2.0,null,1.0,{"$nulls":4},1.0]
["4.00",0.0,"1","VITELLONE LIMOUSINE BIO - ossi buchi - confezione da 500 Gr",5.45,"PZ",1.0,4.0,{"$nulls":11},4.0]
["3.00",0.0,"3","VITELLONE LIMOUSINE BIO - pernice fusello (per brasato) - confezione da 1 Kg",14.2,"PZ",1.0,3.0,{"$nulls":4},1.0,{"$nulls":13},1.0,{"$nulls":10},1.0]
["1.00",0.0,"1","VITELLONE LIMOUSINE BIO - reni (rognoni) - confezione da 500 Gr",4.35,"PZ",1.0,1.0,{"$nulls":20},1.0]
["1.00",0.0,"1","VITELLONE LIMOUSINE BIO - roast beef - confezione da 1 Kg",25.2,"PZ",1.0,1.0,{"$nulls":20},1.0]
["2.00",0.0,"2","VITELLONE LIMOUSINE BIO - roast beef - confezione da 500 Gr",12.6,"PZ",1.0,2.0,{"$nulls":18},1.0,{"$nulls":10},1.0]
["2.00",0.0,"2","VITELLONE LIMOUSINE BIO - spezzatino - confezione da 1 Kg",12.0,"PZ",1.0,2.0,{"$nulls":29},1.0,{"$nulls":5},1.0]
["2.00",0.0,"1","VITELLONE LIMOUSINE BIO - spezzatino - confezione da 500 Gr",6.0,"PZ",1.0,2.0,{"$nulls":8},2.0]
["2.00",0.0,"1","VITELLONE LIMOUSINE BIO - svizzere (hamburger) - confezione da 1 Kg",13.1,"PZ",1.0,2.0,{"$nulls":35},2.0]
["11.00",0.0,"3","VITELLONE LIMOUSINE BIO - svizzere (hamburger) - confezione da 500 Gr",6.55,"PZ",1.0,11.0,null,null,null,2.0,{"$nulls":4},1.0,null,null,8.0]
["8.00",0.0,"4","VITELLONE LIMOUSINE BIO - tagliata - confezione da 500 Gr",8.5,"PZ",1.0,8.0,{"$nulls":12},2.0,{"$nulls":7},1.0,null,null,null,3.0,{"$nulls":4},2.0]
["3.00",0.0,"3","VITELLONE LIMOUSINE BIO - tartare - confezione da 500 Gr",6.55,"PZ",1.0,3.0,1.0,{"$nulls":19},1.0,{"$nulls":8},1.0]

{"sheet":"TOTALI","index":3,"n_rows":69,"n_cols":16,"rows_kept":69,"cut":false,"hidden":false,"merged":[[0,4,0,9],[1,11,1,15]]}
["COGNOME e NOME",null,null,null,"TOTALE Euro realmente pagato al sabato mattina ed eventuali annotazioni (nella colonna E indicare M se in contanti, B se con bancomat o C se con carta di credito)",{"$nulls":5},"Totale Prodotti del Giorno",{"$f":"'Tab1'!A1","v":" Fresco e Mandorle/Pistacchi "},{"$f":"'Tab2'!A1","v":" Pane "},{"$f":"'Tab3'!A1","v":""},{"$f":"'Tab4'!A1","v":" Form. Capra "},{"$f":"'Tab5'!A1","v":" Carni rosse "}]
["2019-10-26","CREDITO INIZIALE","VERSATO OGGI","Pagamento Reale","M/B/C","Commiss. POS","arrotondamenti","CREDITO FINALE","Importo rimborsato/incassato/altro","Sospesi/Firma","filtrare qui per nascondere righe a 0€","TOTALI dalle tabelle di dettaglio"]
[{"$f":"'Tab1'!I3","v":"Nino 01 - Alessandro"},null,null,{"$f":"ROUND((F3+I3+K3)*2+0.4999,0)/2","v":"€ 184.00"},"B",0.5,{"$f":"D3-F3-K3-I3","v":"€ 0.03"},null,null,null,{"$f":"SUM(L3:P3)","v":"€ 183.47"},{"$f":"'Tab1'!I1","v":" €  67.4 "},{"$f":"'Tab2'!I1","v":" €  7.4 "},{"$f":"'Tab3'!I1","v":" €  -   "},{"$f":"'Tab4'!I1","v":" €  -   "},{"$f":"'Tab5'!I1","v":" €  108.7 "}]
[{"$f":"'Tab1'!J3","v":"Paolo 02 - Cattorini"},null,null,0.0,"BON",null,0.25,null,-6.0,"Credito di Paolo con Elena DN. RitiraTorzuoli. Pagherà spesa odierna con bonifico","€ 43.75",{"$f":"'Tab1'!J1","v":" €  38.4 "},{"$f":"'Tab2'!J1","v":" €  5.4 "},{"$f":"'Tab3'!J1","v":" €  -   "},{"$f":"'Tab4'!J1","v":" €  -   "},{"$f":"'Tab5'!J1","v":" €  -   "}]
[{"$f":"'Tab1'!K3","v":"Giuseppe 03 - Dominici"},null,null,0.0,"PROX",null,0.4,null,null,"Pagherà spesa odierna prox settimana","€ 9.60",{"$f":"'Tab1'!K1","v":" €  9.6 "},{"$f":"'Tab2'!K1","v":" €  -   "},{"$f":"'Tab3'!K1","v":" €  -   "},{"$f":"'Tab4'!K1","v":" €  -   "},{"$f":"'Tab5'!K1","v":" €  -   "}]
[{"$f":"'Tab1'!L3","v":"Simona 04 - Riganti"},null,null,{"$f":"ROUND((F6+I6+K6)*2+0.4999,0)/2","v":"€ 142.00"},"B",0.5,{"$f":"D6-F6-K6-I6","v":"€ 0.29"},null,43.0,"Da pagare spesa sabato 19 ottobre","€ 98.21",{"$f":"'Tab1'!L1","v":" €  65.9 "},{"$f":"'Tab2'!L1","v":" €  -   "},{"$f":"'Tab3'!L1","v":" €  -   "},{"$f":"'Tab4'!L1","v":" €  -   "},{"$f":"'Tab5'!L1","v":" €  32.3 "}]
[{"$f":"'Tab1'!M3","v":"Sara 05 - Salvalaglio"},null,null,62.0,"M",null,0.07,null,null,"Da rimborsare prox settimana € 1, pomodori Piccadilly pagati ma non consegnati","€ 60.93",{"$f":"'Tab1'!M1","v":" €  30.5 "},{"$f":"'Tab2'!M1","v":" €  -   "},{"$f":"'Tab3'!M1","v":" €  -   "},{"$f":"'Tab4'!M1","v":" €  -   "},{"$f":"'Tab5'!M1","v":" €  30.4 "}]
[{"$f":"'Tab1'!N3","v":"Fabio 06 - Dal Soglio"},null,null,0.0,"BON",null,0.1,null,null,"Pagherà spesa odierna con bonifico","€ 100.40",{"$f":"'Tab1'!N1","v":" €  67.9 "},{"$f":"'Tab2'!N1","v":" €  13.2 "},{"$f":"'Tab3'!N1","v":" €  -   "},{"$f":"'Tab4'!N1","v":" €  -   "},{"$f":"'Tab5'!N1","v":" €  19.3 "}]
[{"$f":"'Tab1'!O3","v":"Cinzia 07 - Vicario"},null,null,{"$f":"ROUND((F9+I9+K9)*2+0.4999,0)/2","v":"€ 120.50"},"C",0.5,{"$f":"D9-F9-K9-I9","v":"€ 0.38"},null,null,null,"€ 119.62",{"$f":"'Tab1'!O1","v":" €  63.4 "},{"$f":"'Tab2'!O1","v":" €  -   "},{"$f":"'Tab3'!O1","v":" €  -   "},{"$f":"'Tab4'!O1","v":" €  -   "},{"$f":"'Tab5'!O1","v":" €  56.2 "}]
[{"$f":"'Tab1'!P3","v":"Daniela 08 - Achler"},null,null,"€ 0.00",null,null,"€ 0.00",null,null,null,"€ 0.00",{"$f":"'Tab1'!P1","v":" €  -   "},{"$f":"'Tab2'!P1","v":" €  -   "},{"$f":"'Tab3'!P1","v":" €  -   "},{"$f":"'Tab4'!P1","v":" €  -   "},{"$f":"'Tab5'!P1","v":" €  -   "}]
[{"$f":"'Tab1'!Q3","v":"Carlotta 09 - Anzini"},null,null,"€ 106.50","C",0.5,"€ 0.18",null,null,null,"€ 105.82",{"$f":"'Tab1'!Q1","v":" €  16.6 "},{"$f":"'Tab2'!Q1","v":" €  5.2 "},{"$f":"'Tab3'!Q1","v":" €  -   "},{"$f":"'Tab4'!Q1","v":" €  -   "},{"$f":"'Tab5'!Q1","v":" €  84.0 "}]
[{"$f":"'Tab1'!R3","v":"Ada 10 - Benigna"},null,null,"€ 8.50","M",null,"€ 0.01",null,null,null,"€ 8.49",{"$f":"'Tab1'!R1","v":" €  8.5 "},{"$f":"'Tab2'!R1","v":" €  -   "},{"$f":"'Tab3'!R1","v":" €  -   "},{"$f":"'Tab4'!R1","v":" €  -   "},{"$f":"'Tab5'!R1","v":" €  -   "}]
[{"$f":"'Tab1'!S3","v":"Raffaello 11 - Bezzon"},null,null,"€ 69.50","B",0.5,"€ 0.37",null,26.0,"Da pagare spesa sabato 19 ottobre","€ 42.63",{"$f":"'Tab1'!S1","v":" €  36.0 "},{"$f":"'Tab2'!S1","v":" €  6.6 "},{"$f":"'Tab3'!S1","v":" €  -   "},{"$f":"'Tab4'!S1","v":" €  -   "},{"$f":"'Tab5'!S1","v":" €  -   "}]
[{"$f":"'Tab1'!T3","v":"Roberta 12 - Castiglioni"},null,null,0.0,"BON",null,0.35,null,null,"Pagherà spesa odierna con bonifico","€ 243.65",{"$f":"'Tab1'!T1","v":" €  29.3 "},{"$f":"'Tab2'!T1","v":" €  7.8 "},{"$f":"'Tab3'!T1","v":" €  -   "},{"$f":"'Tab4'!T1","v":" €  -   "},{"$f":"'Tab5'!T1","v":" €  206.6 "}]
[{"$f":"'Tab1'!U3","v":"Marco 13 - Cavone"},null,null,0.0,"BON",null,0.14,null,null,"Pagherà spesa odierna con bonifico","€ 162.36",{"$f":"'Tab1'!U1","v":" €  -   "},{"$f":"'Tab2'!U1","v":" €  -   "},{"$f":"'Tab3'!U1","v":" €  -   "},{"$f":"'Tab4'!U1","v":" €  -   "},{"$f":"'Tab5'!U1","v":" €  162.4 "}]
[{"$f":"'Tab1'!V3","v":"Guia 14 - Comini"},null,null,{"$f":"ROUND((F16+I16+K16)*2+0.4999,0)/2","v":"€ 85.50"},"C",0.5,{"$f":"D16-F16-K16-I16","v":"€ 0.15"},null,40.0,"Da pagare spesa sabato 12 e 19 ottobre","€ 44.85",{"$f":"'Tab1'!V1","v":" €  31.9 "},{"$f":"'Tab2'!V1","v":" €  2.4 "},{"$f":"'Tab3'!V1","v":" €  -   "},{"$f":"'Tab4'!V1","v":" €  -   "},{"$f":"'Tab5'!V1","v":" €  10.6 "}]
[{"$f":"'Tab1'!W3","v":"Paolo 15 - Cordilani"},null,null,"€ 78.50","M",null,"€ 0.14",null,null,null,"€ 78.36",{"$f":"'Tab1'!W1","v":" €  38.8 "},{"$f":"'Tab2'!W1","v":" €  6.6 "},{"$f":"'Tab3'!W1","v":" €  -   "},{"$f":"'Tab4'!W1","v":" €  -   "},{"$f":"'Tab5'!W1","v":" €  33.0 "}]
[{"$f":"'Tab1'!X3","v":"Elena 16 - Di Nisio"},null,null,"€ 22.50","M",null,"€ 0.36",null,6.0,"debito di Elena con Paolo Cattorini","€ 16.14",{"$f":"'Tab1'!X1","v":" €  16.1 "},{"$f":"'Tab2'!X1","v":" €  -   "},{"$f":"'Tab3'!X1","v":" €  -   "},{"$f":"'Tab4'!X1","v":" €  -   "},{"$f":"'Tab5'!X1","v":" €  -   "}]
[{"$f":"'Tab1'!Y3","v":"Germana 18 - Drago"},null,null,"€ 16.00","M",null,"€ 0.47",null,null,null,"€ 15.53",{"$f":"'Tab1'!Y1","v":" €  15.5 "},{"$f":"'Tab2'!Y1","v":" €  -   "},{"$f":"'Tab3'!Y1","v":" €  -   "},{"$f":"'Tab4'!Y1","v":" €  -   "},{"$f":"'Tab5'!Y1","v":" €  -   "}]
[{"$f":"'Tab1'!Z3","v":"Mina 20 - Ferrario"},null,null,"€ 127.50","C",0.5,"€ 0.12",null,null,null,"€ 126.88",{"$f":"'Tab1'!Z1","v":" €  59.4 "},{"$f":"'Tab2'!Z1","v":" €  7.5 "},{"$f":"'Tab3'!Z1","v":" €  -   "},{"$f":"'Tab4'!Z1","v":" €  -   "},{"$f":"'Tab5'!Z1","v":" €  60.0 "}]
[{"$f":"'Tab1'!AA3","v":"Francesca 22 - Giannuzzi"},null,null,147.5,"B",0.5,0.2,null,null,"Da rimborsare prox settimana € 2, pomodori Piccadilly pagati ma non consegnati","€ 144.80",{"$f":"'Tab1'!AA1","v":" €  68.1 "},{"$f":"'Tab2'!AA1","v":" €  -   "},{"$f":"'Tab3'!AA1","v":" €  -   "},{"$f":"'Tab4'!AA1","v":" €  -   "},{"$f":"'Tab5'!AA1","v":" €  76.7 "}]
[{"$f":"'Tab1'!AB3","v":"Ester 23 - Grasselli"},null,null,56.0,"B",0.5,0.49,null,null,"Da rimborsare prox settimana € 1, pomodori Piccadilly pagati ma non consegnati","€ 54.01",{"$f":"'Tab1'!AB1","v":" €  23.3 "},{"$f":"'Tab2'!AB1","v":" €  2.2 "},{"$f":"'Tab3'!AB1","v":" €  -   "},{"$f":"'Tab4'!AB1","v":" €  -   "},{"$f":"'Tab5'!AB1","v":" €  28.6 "}]
[{"$f":"'Tab1'!AC3","v":"Alberto 24 - Longoni"},null,null,229.0,"B",0.5,0.41,null,null,"Da rimborsare prox settimana € 1, pomodori Piccadilly pagati ma non consegnati","€ 227.09",{"$f":"'Tab1'!AC1","v":" €  28.1 "},{"$f":"'Tab2'!AC1","v":" €  4.9 "},{"$f":"'Tab3'!AC1","v":" €  -   "},{"$f":"'Tab4'!AC1","v":" €  -   "},{"$f":"'Tab5'!AC1","v":" €  194.0 "}]
[{"$f":"'Tab1'!AD3","v":"Daniela 27 - Pariani"},null,null,0.0,null,null,0.0,null,16.5,"Da pagare spesa sabato 12 ottobre","€ 0.00",{"$f":"'Tab1'!AD1","v":" €  -   "},{"$f":"'Tab2'!AD1","v":" €  -   "},{"$f":"'Tab3'!AD1","v":" €  -   "},{"$f":"'Tab4'!AD1","v":" €  -   "},{"$f":"'Tab5'!AD1","v":" €  -   "}]
[{"$f":"'Tab1'!AE3","v":"Italo 28 - Raffaelli"},null,null,{"$f":"ROUND((F25+I25+K25)*2+0.4999,0)/2","v":"€ 189.50"},"B",0.5,{"$f":"D25-F25-K25-I25","v":"€ 0.19"},null,null,null,"€ 188.81",{"$f":"'Tab1'!AE1","v":" €  88.3 "},{"$f":"'Tab2'!AE1","v":" €  5.2 "},{"$f":"'Tab3'!AE1","v":" €  -   "},{"$f":"'Tab4'!AE1","v":" €  -   "},{"$f":"'Tab5'!AE1","v":" €  95.3 "}]
[{"$f":"'Tab1'!AF3","v":"Silvia 29 - Raimondi"},null,null,0.0,"BON",null,0.0,null,null,"Ritira Dal Soglio. Pagherà Dal Soglio con bonifico","€ 12.50",{"$f":"'Tab1'!AF1","v":" €  12.5 "},{"$f":"'Tab2'!AF1","v":" €  -   "},{"$f":"'Tab3'!AF1","v":" €  -   "},{"$f":"'Tab4'!AF1","v":" €  -   "},{"$f":"'Tab5'!AF1","v":" €  -   "}]
[{"$f":"'Tab1'!AG3","v":"Stefano 31 - Tonazzi"},null,null,157.0,"B",0.5,0.49,null,null,"Da rimborsre prox settimana € 2, pomodori Piccadilly pagati ma non consegnati","€ 154.01",{"$f":"'Tab1'!AG1","v":" €  52.8 "},{"$f":"'Tab2'!AG1","v":" €  -   "},{"$f":"'Tab3'!AG1","v":" €  -   "},{"$f":"'Tab4'!AG1","v":" €  -   "},{"$f":"'Tab5'!AG1","v":" €  101.2 "}]
[{"$f":"'Tab1'!AH3","v":"Diego 33 - Valceschini"},null,null,{"$f":"ROUND((F28+I28+K28)*2+0.4999,0)/2","v":"€ 32.50"},"C",0.5,{"$f":"D28-F28-K28-I28","v":"€ 0.39"},null,null,null,"€ 31.61",{"$f":"'Tab1'!AH1","v":" €  27.1 "},{"$f":"'Tab2'!AH1","v":" €  4.6 "},{"$f":"'Tab3'!AH1","v":" €  -   "},{"$f":"'Tab4'!AH1","v":" €  -   "},{"$f":"'Tab5'!AH1","v":" €  -   "}]
[{"$f":"'Tab1'!AI3","v":"Alberto 34 - Venegoni"},null,null,0.0,"BON",null,0.22,null,5.5,"Da pagare spesa sabato 19 ottobre. Ritira Riganti. Pagherà spesa odierna + spesa sabato 19 ottobre con bonifico","€ 127.28",{"$f":"'Tab1'!AI1","v":" €  127.3 "},{"$f":"'Tab2'!AI1","v":" €  -   "},{"$f":"'Tab3'!AI1","v":" €  -   "},{"$f":"'Tab4'!AI1","v":" €  -   "},{"$f":"'Tab5'!AI1","v":" €  -   "}]
[{"$f":"'Tab1'!AJ3","v":"Monica 35 - Vernocchi"},null,null,{"$f":"ROUND((F30+I30+K30)*2+0.4999,0)/2","v":"€ 16.00"},"B",0.5,{"$f":"D30-F30-K30-I30","v":"€ 0.39"},null,null,null,"€ 15.11",{"$f":"'Tab1'!AJ1","v":" €  15.1 "},{"$f":"'Tab2'!AJ1","v":" €  -   "},{"$f":"'Tab3'!AJ1","v":" €  -   "},{"$f":"'Tab4'!AJ1","v":" €  -   "},{"$f":"'Tab5'!AJ1","v":" €  -   "}]
[{"$f":"'Tab1'!AK3","v":"Loredana 37 - Colombo"},null,null,0.0,null,null,0.0,null,-8.5,"Rimborso pane del 05/10/2019","€ 0.00",{"$f":"'Tab1'!AK1","v":" €  -   "},{"$f":"'Tab2'!AK1","v":" €  -   "},{"$f":"'Tab3'!AK1","v":" €  -   "},{"$f":"'Tab4'!AK1","v":" €  -   "},{"$f":"'Tab5'!AK1","v":" €  -   "}]
[{"$f":"'Tab1'!AL3","v":"Stefano 38 - Colombo"},null,null,251.5,"B",0.5,0.27,null,null,"Da rimborsare prox settimana € 2, pomodori Piccadilly pagati ma non consegnati","€ 248.73",{"$f":"'Tab1'!AL1","v":" €  44.1 "},{"$f":"'Tab2'!AL1","v":" €  5.4 "},{"$f":"'Tab3'!AL1","v":" €  -   "},{"$f":"'Tab4'!AL1","v":" €  -   "},{"$f":"'Tab5'!AL1","v":" €  199.2 "}]
[{"$f":"'Tab1'!AM3","v":"Alessandra 39 - Tartaro"},null,null,{"$f":"ROUND((F33+I33+K33)*2+0.4999,0)/2","v":"€ 0.00"},null,null,{"$f":"D33-F33-K33-I33","v":"€ 0.00"},null,null,null,"€ 0.00",{"$f":"'Tab1'!AM1","v":" €  -   "},{"$f":"'Tab2'!AM1","v":" €  -   "},{"$f":"'Tab3'!AM1","v":" €  -   "},{"$f":"'Tab4'!AM1","v":" €  -   "},{"$f":"'Tab5'!AM1","v":" €  -   "}]
[{"$f":"'Tab1'!AN3","v":"Stefano 42 - Torzuoli"},null,null,"€ 7.50","M",null,"€ 0.01",null,null,"Ritira anche per Cattorini","€ 7.49",{"$f":"'Tab1'!AN1","v":" €  7.5 "},{"$f":"'Tab2'!AN1","v":" €  -   "},{"$f":"'Tab3'!AN1","v":" €  -   "},{"$f":"'Tab4'!AN1","v":" €  -   "},{"$f":"'Tab5'!AN1","v":" €  -   "}]
[{"$f":"'Tab1'!AO3","v":"Emilia 43 - Armiraglio"},null,null,"€ 59.50","M",null,"€ 0.36",null,null,"Ritira e paga Benigna","€ 59.14",{"$f":"'Tab1'!AO1","v":" €  59.1 "},{"$f":"'Tab2'!AO1","v":" €  -   "},{"$f":"'Tab3'!AO1","v":" €  -   "},{"$f":"'Tab4'!AO1","v":" €  -   "},{"$f":"'Tab5'!AO1","v":" €  -   "}]
[{"$f":"'Tab1'!AP3","v":"Elisabetta 44 - Tosi"},null,null,"€ 0.00",null,null,"€ 0.00",null,null,null,"€ 0.00",{"$f":"'Tab1'!AP1","v":" €  -   "},{"$f":"'Tab2'!AP1","v":" €  -   "},{"$f":"'Tab3'!AP1","v":" €  -   "},{"$f":"'Tab4'!AP1","v":" €  -   "},{"$f":"'Tab5'!AP1","v":" €  -   "}]
[{"$f":"'Tab1'!AQ3","v":"Rosangela 46 - Valli"},null,null,0.0,"PROX",null,0.05,null,null,"Pagherà spesa odierna prox settimana","€ 24.45",{"$f":"'Tab1'!AQ1","v":" €  24.5 "},{"$f":"'Tab2'!AQ1","v":" €  -   "},{"$f":"'Tab3'!AQ1","v":" €  -   "},{"$f":"'Tab4'!AQ1","v":" €  -   "},{"$f":"'Tab5'!AQ1","v":" €  -   "}]
[{"$f":"'Tab1'!AR3","v":"Paola 48 - Dusi"},null,null,154.5,"C",0.5,0.49,null,null,"Da rimborsare prox settimana € 3, pomodori Piccadilly pagati ma non consegnati","€ 150.51",{"$f":"'Tab1'!AR1","v":" €  64.6 "},{"$f":"'Tab2'!AR1","v":" €  9.7 "},{"$f":"'Tab3'!AR1","v":" €  -   "},{"$f":"'Tab4'!AR1","v":" €  -   "},{"$f":"'Tab5'!AR1","v":" €  76.2 "}]
[{"$f":"'Tab1'!AS3","v":"Paolo 49 - Carrera"},null,null,{"$f":"ROUND((F39+I39+K39)*2+0.4999,0)/2","v":"€ 38.00"},"M",null,{"$f":"D39-F39-K39-I39","v":"€ 0.42"},null,null,null,"€ 37.58",{"$f":"'Tab1'!AS1","v":" €  37.6 "},{"$f":"'Tab2'!AS1","v":" €  -   "},{"$f":"'Tab3'!AS1","v":" €  -   "},{"$f":"'Tab4'!AS1","v":" €  -   "},{"$f":"'Tab5'!AS1","v":" €  -   "}]
[{"$f":"'Tab1'!AT3","v":""},null,null,"€ 0.00",null,null,"€ 0.00",null,null,null,"€ 0.00",{"$f":"'Tab1'!AT1","v":" €  -   "},{"$f":"'Tab2'!AT1","v":" €  -   "},{"$f":"'Tab3'!AT1","v":" €  -   "},{"$f":"'Tab4'!AT1","v":" €  -   "},{"$f":"'Tab5'!AT1","v":" €  -   "}]
[{"$f":"'Tab1'!AU3","v":""},null,null,"€ 0.00",null,null,"€ 0.00",null,null,null,"€ 0.00",{"$f":"'Tab1'!AU1","v":" €  -   "},{"$f":"'Tab2'!AU1","v":" €  -   "},{"$f":"'Tab3'!AU1","v":" €  -   "},{"$f":"'Tab4'!AU1","v":" €  -   "},{"$f":"'Tab5'!AU1","v":" €  -   "}]
[{"$f":"'Tab1'!AV3","v":""},null,null,"€ 0.00",null,null,"€ 0.00",null,null,null,"€ 0.00",{"$f":"'Tab1'!AV1","v":" €  -   "},{"$f":"'Tab2'!AV1","v":" €  -   "},{"$f":"'Tab3'!AV1","v":" €  -   "},{"$f":"'Tab4'!AV1","v":" €  -   "},{"$f":"'Tab5'!AV1","v":" €  -   "}]
[{"$f":"'Tab1'!AW3","v":""},null,null,"€ 0.00",null,null,"€ 0.00",null,null,null,"€ 0.00",{"$f":"'Tab1'!AW1","v":" €  -   "},{"$f":"'Tab2'!AW1","v":" €  -   "},{"$f":"'Tab3'!AW1","v":" €  -   "},{"$f":"'Tab4'!AW1","v":" €  -   "},{"$f":"'Tab5'!AW1","v":" €  -   "}]
[{"$f":"'Tab1'!AX3","v":""},null,null,"€ 0.00",null,null,"€ 0.00",null,null,null,"€ 0.00",{"$f":"'Tab1'!AX1","v":" €  -   "},{"$f":"'Tab2'!AX1","v":" €  -   "},{"$f":"'Tab3'!AX1","v":" €  -   "},{"$f":"'Tab4'!AX1","v":" €  -   "},{"$f":"'Tab5'!AX1","v":" €  -   "}]
[{"$f":"'Tab1'!AY3","v":""},null,null,"€ 0.00",null,null,"€ 0.00",null,null,null,"€ 0.00",{"$f":"'Tab1'!AY1","v":" €  -   "},{"$f":"'Tab2'!AY1","v":" €  -   "},{"$f":"'Tab3'!AY1","v":" €  -   "},{"$f":"'Tab4'!AY1","v":" €  -   "},{"$f":"'Tab5'!AY1","v":" €  -   "}]
[{"$f":"'Tab1'!AZ3","v":""},null,null,"€ 0.00",null,null,"€ 0.00",null,null,null,"€ 0.00",{"$f":"'Tab1'!AZ1","v":" €  -   "},{"$f":"'Tab2'!AZ1","v":" €  -   "},{"$f":"'Tab3'!AZ1","v":" €  -   "},{"$f":"'Tab4'!AZ1","v":" €  -   "},{"$f":"'Tab5'!AZ1","v":" €  -   "}]
[{"$f":"'Tab1'!BA3","v":""},null,null,"€ 0.00",null,null,"€ 0.00",null,null,null,"€ 0.00",{"$f":"'Tab1'!BA1","v":" €  -   "},{"$f":"'Tab2'!BA1","v":" €  -   "},{"$f":"'Tab3'!BA1","v":" €  -   "},{"$f":"'Tab4'!BA1","v":" €  -   "},{"$f":"'Tab5'!BA1","v":" €  -   "}]
[{"$f":"'Tab1'!BB3","v":""},null,null,"€ 0.00",null,null,"€ 0.00",null,null,null,"€ 0.00",{"$f":"'Tab1'!BB1","v":" €  -   "},{"$f":"'Tab2'!BB1","v":" €  -   "},{"$f":"'Tab3'!BB1","v":" €  -   "},{"$f":"'Tab4'!BB1","v":" €  -   "},{"$f":"'Tab5'!BB1","v":" €  -   "}]
[{"$f":"'Tab1'!BC3","v":""},null,null,"€ 0.00",null,null,"€ 0.00",null,null,null,"€ 0.00",{"$f":"'Tab1'!BC1","v":" €  -   "},{"$f":"'Tab2'!BC1","v":" €  -   "},{"$f":"'Tab3'!BC1","v":" €  -   "},{"$f":"'Tab4'!BC1","v":" €  -   "},{"$f":"'Tab5'!BC1","v":" €  -   "}]
[{"$f":"'Tab1'!BD3","v":""},null,null,"€ 0.00",null,null,"€ 0.00",null,null,null,"€ 0.00",{"$f":"'Tab1'!BD1","v":" €  -   "},{"$f":"'Tab2'!BD1","v":" €  -   "},{"$f":"'Tab3'!BD1","v":" €  -   "},{"$f":"'Tab4'!BD1","v":" €  -   "},{"$f":"'Tab5'!BD1","v":" €  -   "}]
[{"$f":"'Tab1'!BE3","v":""},null,null,"€ 0.00",null,null,"€ 0.00",null,null,null,"€ 0.00",{"$f":"'Tab1'!BE1","v":" €  -   "},{"$f":"'Tab2'!BE1","v":" €  -   "},{"$f":"'Tab3'!BE1","v":" €  -   "},{"$f":"'Tab4'!BE1","v":" €  -   "},{"$f":"'Tab5'!BE1","v":" €  -   "}]
[{"$f":"'Tab1'!BF3","v":""},null,null,"€ 0.00",null,null,"€ 0.00",null,null,null,"€ 0.00",{"$f":"'Tab1'!BF1","v":" €  -   "},{"$f":"'Tab2'!BF1","v":" €  -   "},{"$f":"'Tab3'!BF1","v":" €  -   "},{"$f":"'Tab4'!BF1","v":" €  -   "},{"$f":"'Tab5'!BF1","v":" €  -   "}]
[{"$f":"'Tab1'!BG3","v":""},null,null,"€ 0.00",null,null,"€ 0.00",null,null,null,"€ 0.00",{"$f":"'Tab1'!BG1","v":" €  -   "},{"$f":"'Tab2'!BG1","v":" €  -   "},{"$f":"'Tab3'!BG1","v":" €  -   "},{"$f":"'Tab4'!BG1","v":" €  -   "},{"$f":"'Tab5'!BG1","v":" €  -   "}]
[{"$f":"'Tab1'!BH3","v":""},null,null,"€ 0.00",null,null,"€ 0.00",null,null,null,"€ 0.00",{"$f":"'Tab1'!BH1","v":" €  -   "},{"$f":"'Tab2'!BH1","v":" €  -   "},{"$f":"'Tab3'!BH1","v":" €  -   "},{"$f":"'Tab4'!BH1","v":" €  -   "},{"$f":"'Tab5'!BH1","v":" €  -   "}]
[{"$f":"'Tab1'!BI3","v":""},null,null,"€ 0.00",null,null,"€ 0.00",null,null,null,"€ 0.00",{"$f":"'Tab1'!BI1","v":" €  -   "},{"$f":"'Tab2'!BI1","v":" €  -   "},{"$f":"'Tab3'!BI1","v":" €  -   "},{"$f":"'Tab4'!BI1","v":" €  -   "},{"$f":"'Tab5'!BI1","v":" €  -   "}]
[{"$f":"'Tab1'!BJ3","v":""},null,null,"€ 0.00",null,null,"€ 0.00",null,null,null,"€ 0.00",{"$f":"'Tab1'!BJ1","v":" €  -   "},{"$f":"'Tab2'!BJ1","v":" €  -   "},{"$f":"'Tab3'!BJ1","v":" €  -   "},{"$f":"'Tab4'!BJ1","v":" €  -   "},{"$f":"'Tab5'!BJ1","v":" €  -   "}]
[{"$f":"'Tab1'!BK3","v":""},null,null,"€ 0.00",null,null,"€ 0.00",null,null,null,"€ 0.00",{"$f":"'Tab1'!BK1","v":" €  -   "},{"$f":"'Tab2'!BK1","v":" €  -   "},{"$f":"'Tab3'!BK1","v":" €  -   "},{"$f":"'Tab4'!BK1","v":" €  -   "},{"$f":"'Tab5'!BK1","v":" €  -   "}]
[{"$f":"'Tab1'!BL3","v":""},null,null,"€ 0.00",null,null,"€ 0.00",null,null,null,"€ 0.00",{"$f":"'Tab1'!BL1","v":" €  -   "},{"$f":"'Tab2'!BL1","v":" €  -   "},{"$f":"'Tab3'!BL1","v":" €  -   "},{"$f":"'Tab4'!BL1","v":" €  -   "},{"$f":"'Tab5'!BL1","v":" €  -   "}]
[{"$f":"'Tab1'!BM3","v":""},null,null,"€ 0.00",null,null,"€ 0.00",null,null,null,"€ 0.00",{"$f":"'Tab1'!BM1","v":" €  -   "},{"$f":"'Tab2'!BM1","v":" €  -   "},{"$f":"'Tab3'!BM1","v":" €  -   "},{"$f":"'Tab4'!BM1","v":" €  -   "},{"$f":"'Tab5'!BM1","v":" €  -   "}]
["Totale",null,null,{"$f":"SUM(D3:D59)","v":"€ 2,361.50"},"totale comm:",{"$f":"SUM(F3:F59)","v":"€ 8.00"},"€ 8.21",null,{"$f":"SUM(I3:I59)","v":"€ 122.50"},null,{"$f":"SUM(K3:K59)","v":"€ 2,943.79"}," €  1,275.3 "," €  93.8 "," €  -   "," €  -   "," €  1,574.7 "]
["+ Bonifici (Cattorini € 38,00; Dal Soglio € 100,50; Castiglioni € 244,00; Cavone € 162,50; Raimondi € 12,50; Venegoni € 127,50)",null,null,685.0,{"$nulls":6}," check con tabelle di dettaglio:",{"$f":"IF(L60='Tab1'!G1,\"ok\",\"errore: controlla\")","v":" ok "},{"$f":"IF(M60='Tab2'!G1,\"ok\",\"errore: controlla\")","v":" ok "},{"$f":"IF(N60='Tab3'!G1,\"ok\",\"errore: controlla\")","v":" ok "},{"$f":"IF(O60='Tab4'!G1,\"ok\",\"errore: controlla\")","v":" ok "},{"$f":"IF(P60='Tab5'!G1,\"ok\",\"errore: controlla\")","v":" ok "}]
["+ Spese del giorno non pagate (Dominici € 10,00; Vali € 24,50)",null,null,34.5,"M",{"$f":"SUMIF($E$3:$E$59,E62,$D$3:$D$59)","v":"€ 292.50"},null,null,"Tot. Contante",1009.94]
["- Incasso Spese Precedenti (Riganti € 43,00; Bezzon € 26,00; Comini € 40,00)",null,null,-109.0,"B","€ 1,442.00",null,null,"Cassa precedente",712.42]
["- Commiss. POS",null,null,{"$f":"-F60","v":"-€ 8.00"},"C","€ 627.00",null,null,"Tot. Cash Oggi",{"$f":"J62-J63","v":"€ 297.52"}]
["- Arrotondamenti",null,null,-8.21,"Totale",{"$f":"SUM(F62:F64)","v":"€ 2,361.50"}]
["+ Rimborsi tra gasisti (Cattorini € 6,00)",null,null,6.0]
["- Rimborsi tra gasisti (Di Nisio € 6,00)",null,null,-6.0]
["- Rimborsi spesa odierna (Salvalaglio € 1,00; Giannuzzi € 2,00; Grasselli € 1,00; Longoni € 1,00; Tonazzi € 2,00; Colombo S. € 2,00; Dusi € 3,00)  ",null,null,-12.0,"M",{"$f":"SUMIF($E$3:$E$59,E68,$D$3:$D$59)","v":"€ 292.50"},null,null,"Tot. Contante"]
["Importo uguale a Tot. Prodotti del Giorno",null,null,{"$f":"SUM(D60:D68)","v":"€ 2,943.79"},{"$nulls":4},{"$f":"CONCATENATE(\"oggi stanno acquistando in \", COUNTIF(K3:K59, \">0\"))","v":"oggi stanno acquistando in 32"}]

{"sheet":"Sospesi e Giacenze","index":4,"n_rows":32,"n_cols":6,"rows_kept":32,"cut":false,"hidden":false,"merged":[]}
["SOSPESI ",{"$nulls":4},{"$f":"TOTALI!A2","v":"Saturday 26 October "}]
["COGNOME E NOME",null,"Incassare","Rimborsare","(+) Incassare\n (-) Rimborsare","Motivo"]
["Cattorini Paolo",null,38.0,null,{"$f":"C3-D3","v":"€ 38.00"},"Pagherà spesa odierna con bonifico"]
["Dominici Giuseppe",null,10.0,null,"€ 10.00","Pagerà spesa odierna prox settimana"]
["Salvalaglio Sara",null,null,1.0,"-€ 1.00","Da rimborsare prox settimana € 1, pomodori Piccadilly pagati ma non consegnati"]
["Dal Soglio Fabio",null,100.5,null,"€ 100.50","Pagherà spesa odierna con bonifico"]
["Castiglioni Roberta",null,244.0,null,"€ 244.00","Pagherà spesa odierna con bonifico"]
["Cavone Marco",null,162.5,null,"€ 162.50","Pagherà spesa odierna con bonifico"]
["Ferrario Mina",null,5.86,null,"€ 5.86","Da addebitare 1 pz fontina non pagata sabato 19 ottobre"]
["Giannuzzi Francesca",null,null,2.0,"-€ 2.00","Da rimborsare prox settimana € 2, pomodori Piccadilly pagati ma non consegnati"]
["Grasselli Ester",null,null,1.0,"-€ 1.00","Da rimborsare prox settimana € 1, pomodori Piccadilly pagati ma non consegnati"]
["Longoni Alberto",null,null,1.0,"-€ 1.00","Da rimborsare prox settimana € 1, pomodori Piccadilly pagati ma non consegnati"]
["Pariani Daniela",null,16.5,null,"€ 16.50","Da pagare spesa sabato 12 ottobre"]
["Raimondi Silvia",null,12.5,null,"€ 12.50","Pagherà spesa odierna con bonifico (il bonifico sarà fatto da Dal Soglio, insieme al suo)"]
["Raimondi Silvia",null,null,5.86,"-€ 5.86","Da rimborsre 1 pz fontina non consegnata sabato 19 ottobre"]
["Tonazzi Stefano",null,null,2.0,"-€ 2.00","Da rimborsare prox settimana € 2, pomodori Piccadilly pagati ma non consegnati"]
["Venegoni Alberto",null,133.0,null,"€ 133.00","Pagherà spesa odierna + spesa sabato 19 ottobre con bonifico"]
["Colombo Loredana",null,null,8.5,"-€ 8.50","Da rimborsare pane sabato 5 ottobre"]
["Colombo Stefano",null,null,2.0,"-€ 2.00","Da rimborsare prox settimana € 2, pomodori Piccadilly pagati ma non consegnati"]
["Valli Rosangela",null,24.5,null,"€ 24.50","Pagherà spesa odierna prox settimana"]
["Dusi Paola",null,null,3.0,"-€ 3.00","Da rimborsare prox settimana € 3, pomodori Piccadilly pagati ma non consegnati"]
[{"$nulls":5},{"$f":"CONCATENATE(\"Totale Sospesi € \",SUM(E3:E21))","v":"Totale Sospesi € 721"}]
[]
["GIACENZE da riportare la prossima settimana"]
["Prodotto","Prezzo\nper UM","UM","Peso\nCollo",{"$f":"CONCATENATE(\"TOTALE € \",SUM(E26:E32))","v":"TOTALE € 56.2"}]
["PASSATA DI POMODORO BIO ML. 700 - La Terra & Cielo",1.6,"PZ",8.0,{"$f":"B26*D26","v":"12.80 €"}]
["SUCCO DI MELA 100% - BOTT. 1 L. - BioTrentino",2.3,"PZ",6.0,"13.80 €"]
["SUCCO DI MELA E MIRTILLO 100% - BOTT. 750 M L. - BioTrentino",3.85,"PZ",2.0,"7.70 €"]
["SUCCO DI MELA E ARANCIA 100% - BOTT. 750 ML - BioTrentino",1.7,"PZ",3.0,"5.10 €"]
["SUCCO DI MELA E SAMBUCO 100% - BOTT. 750 M L. - BioTrentino",1.75,"PZ",1.0,"1.75 €"]
["SUCCO DI MELA E ZENZERO 100% - BOTT. 750 M L. - BioTrentino",2.15,"PZ",4.0,"8.60 €"]
["SUCCO DI PERA E MELA - BOTT. 750 ML - Bio Trentino",2.15,"PZ",3.0,"6.45 €"]

{"sheet":"Tab3","index":5,"n_rows":4,"n_cols":65,"rows_kept":4,"cut":false,"hidden":false,"merged":[[0,6,1,7],[0,0,1,2],[0,3,1,3],[2,0,2,3],[4,0,4,3],[4,4,4,5],[4,6,4,7]]}
[{"$nulls":4},"Tot con Trasp.",null,{"$f":"SUM(I1:BM1)","v":"€ 0"},null,{"$f":"IF(I2=0,0,I2+$F2*(I2/SUM($I2:$BM2)))","v":"€ 0.00"},"€ 0.00","€ 0.00","€ 0.00","€ 0.00","€ 0.00","€ 0.00","€ 0.00","€ 0.00","€ 0.00","€ 0.00","€ 0.00","€ 0.00","€ 0.00","€ 0.00","€ 0.00","€ 0.00","€ 0.00","€ 0.00","€ 0.00","€ 0.00","€ 0.00","€ 0.00","€ 0.00","€ 0.00","€ 0.00","€ 0.00","€ 0.00","€ 0.00","€ 0.00","€ 0.00","€ 0.00","€ 0.00","€ 0.00","€ 0.00","€ 0.00","€ 0.00","€ 0.00","€ 0.00","€ 0.00","€ 0.00","€ 0.00","€ 0.00","€ 0.00","€ 0.00","€ 0.00","€ 0.00","€ 0.00","€ 0.00","€ 0.00","€ 0.00","€ 0.00","€ 0.00","€ 0.00","€ 0.00","€ 0.00","€ 0.00"]
[{"$nulls":4},"Trasporto:",null,null,null,{"$f":"I5","v":""},"","","","","","","","","","","","","","","","","","","","","","","","","","","","","","","","","","","","","","","","","","","","","","","","","","","","","","","",""]
[{"$nulls":8},{"$f":"'Tab1'!I3","v":"Nino 01 - Alessandro"},{"$f":"'Tab1'!J3","v":"Paolo 02 - Cattorini"},{"$f":"'Tab1'!K3","v":"Giuseppe 03 - Dominici"},{"$f":"'Tab1'!L3","v":"Simona 04 - Riganti"},{"$f":"'Tab1'!M3","v":"Sara 05 - Salvalaglio"},{"$f":"'Tab1'!N3","v":"Fabio 06 - Dal Soglio"},{"$f":"'Tab1'!O3","v":"Cinzia 07 - Vicario"},{"$f":"'Tab1'!P3","v":"Daniela 08 - Achler"},{"$f":"'Tab1'!Q3","v":"Carlotta 09 - Anzini"},{"$f":"'Tab1'!R3","v":"Ada 10 - Benigna"},{"$f":"'Tab1'!S3","v":"Raffaello 11 - Bezzon"},{"$f":"'Tab1'!T3","v":"Roberta 12 - Castiglioni"},{"$f":"'Tab1'!U3","v":"Marco 13 - Cavone"},{"$f":"'Tab1'!V3","v":"Guia 14 - Comini"},{"$f":"'Tab1'!W3","v":"Paolo 15 - Cordilani"},{"$f":"'Tab1'!X3","v":"Elena 16 - Di Nisio"},{"$f":"'Tab1'!Y3","v":"Germana 18 - Drago"},{"$f":"'Tab1'!Z3","v":"Mina 20 - Ferrario"},{"$f":"'Tab1'!AA3","v":"Francesca 22 - Giannuzzi"},{"$f":"'Tab1'!AB3","v":"Ester 23 - Grasselli"},{"$f":"'Tab1'!AC3","v":"Alberto 24 - Longoni"},{"$f":"'Tab1'!AD3","v":"Daniela 27 - Pariani"},{"$f":"'Tab1'!AE3","v":"Italo 28 - Raffaelli"},{"$f":"'Tab1'!AF3","v":"Silvia 29 - Raimondi"},{"$f":"'Tab1'!AG3","v":"Stefano 31 - Tonazzi"},{"$f":"'Tab1'!AH3","v":"Diego 33 - Valceschini"},{"$f":"'Tab1'!AI3","v":"Alberto 34 - Venegoni"},{"$f":"'Tab1'!AJ3","v":"Monica 35 - Vernocchi"},{"$f":"'Tab1'!AK3","v":"Loredana 37 - Colombo"},{"$f":"'Tab1'!AL3","v":"Stefano 38 - Colombo"},{"$f":"'Tab1'!AM3","v":"Alessandra 39 - Tartaro"},{"$f":"'Tab1'!AN3","v":"Stefano 42 - Torzuoli"},{"$f":"'Tab1'!AO3","v":"Emilia 43 - Armiraglio"},{"$f":"'Tab1'!AP3","v":"Elisabetta 44 - Tosi"},{"$f":"'Tab1'!AQ3","v":"Rosangela 46 - Valli"},{"$f":"'Tab1'!AR3","v":"Paola 48 - Dusi"},{"$f":"'Tab1'!AS3","v":"Paolo 49 - Carrera"},{"$f":"'Tab1'!AT3","v":""},{"$f":"'Tab1'!AU3","v":""},{"$f":"'Tab1'!AV3","v":""},{"$f":"'Tab1'!AW3","v":""},{"$f":"'Tab1'!AX3","v":""},{"$f":"'Tab1'!AY3","v":""},{"$f":"'Tab1'!AZ3","v":""},{"$f":"'Tab1'!BA3","v":""},{"$f":"'Tab1'!BB3","v":""},{"$f":"'Tab1'!BC3","v":""},{"$f":"'Tab1'!BD3","v":""},{"$f":"'Tab1'!BE3","v":""},{"$f":"'Tab1'!BF3","v":""},{"$f":"'Tab1'!BG3","v":""},{"$f":"'Tab1'!BH3","v":""},{"$f":"'Tab1'!BI3","v":""},{"$f":"'Tab1'!BJ3","v":""},{"$f":"'Tab1'!BK3","v":""},{"$f":"'Tab1'!BL3","v":""},{"$f":"'Tab1'!BM3","v":""}]
["TOT pesi","Ecce denza","quanti hanno ordinato","Prodotto","Prezzo\nper UM","UM","Peso\nCollo","Colli\nda ordinare",{"$f":"'Tab1'!I4","v":"\nninoalessandro.bargas@gmail.com"},{"$f":"'Tab1'!J4","v":"\npaolo.cattorini@gmail.com"},{"$f":"'Tab1'!K4","v":"\ngiuseppe.pino.dominici@gmail.com"},{"$f":"'Tab1'!L4","v":"\nsriganti.bargas@gmail.com"},{"$f":"'Tab1'!M4","v":"\nsarasalvi86@libero.it"},{"$f":"'Tab1'!N4","v":"\nfabiodalsoglio@hotmail.com"},{"$f":"'Tab1'!O4","v":"\nvicario.cinzia@gmail.com"},{"$f":"'Tab1'!P4","v":"\nciapparelligiovanni@libero.it"},{"$f":"'Tab1'!Q4","v":"\ncarlotta.anzini@gmail.com"},{"$f":"'Tab1'!R4","v":"\nada.benigna@gmail.com"},{"$f":"'Tab1'!S4","v":"\nraffaello.bezzon@gmail.com"},{"$f":"'Tab1'!T4","v":"\nrcastiglio@libero.it"},{"$f":"'Tab1'!U4","v":"\nmarco.cavone@gmail.com"},{"$f":"'Tab1'!V4","v":"\nguya.c@hotmail.it"},{"$f":"'Tab1'!W4","v":"\nvapaio@gmail.com"},{"$f":"'Tab1'!X4","v":"\neldinis@libero.it"},{"$f":"'Tab1'!Y4","v":"\ndragogermana@libero.it"},{"$f":"'Tab1'!Z4","v":"\nminaferrario@gmail.com"},{"$f":"'Tab1'!AA4","v":"\ngiannuzzifrancesca@virgilio.it"},{"$f":"'Tab1'!AB4","v":"\ngrasselli67@gmail.com"},{"$f":"'Tab1'!AC4","v":"\nalbertolongoni@alice.it"},{"$f":"'Tab1'!AD4","v":"\ndaniela.pariani@gmail.com"},{"$f":"'Tab1'!AE4","v":"\nitalo.donata@gmail.com"},{"$f":"'Tab1'!AF4","v":"\nsilvia.raimondi@telesystems-pro.it"},{"$f":"'Tab1'!AG4","v":"\ntonazzistefano@hotmail.it"},{"$f":"'Tab1'!AH4","v":"\ndiego.valceschini@libero.it"},{"$f":"'Tab1'!AI4","v":"\navenus2204@gmail.com"},{"$f":"'Tab1'!AJ4","v":"\nmonicavrn@hotmail.com"},{"$f":"'Tab1'!AK4","v":"\nloredcol@gmail.com"},{"$f":"'Tab1'!AL4","v":"\nstefano1963.sc@gmail.com"},{"$f":"'Tab1'!AM4","v":"\nalessandratartaro@gmail.com"},{"$f":"'Tab1'!AN4","v":"\nstefano.torzuoli@gmail.com"},{"$f":"'Tab1'!AO4","v":"\nemiliarosacarla@libero.it"},{"$f":"'Tab1'!AP4","v":"\nelisabetta.tosi@avvocatotosi.it"},{"$f":"'Tab1'!AQ4","v":"\nrosangela.valli@libero.it"},{"$f":"'Tab1'!AR4","v":"\npaola.dusi@gmail.com"},{"$f":"'Tab1'!AS4","v":"\ngrad.carrera@gmail.com"},{"$f":"'Tab1'!AT4","v":""},{"$f":"'Tab1'!AU4","v":""},{"$f":"'Tab1'!AV4","v":""},{"$f":"'Tab1'!AW4","v":""},{"$f":"'Tab1'!AX4","v":""},{"$f":"'Tab1'!AY4","v":""},{"$f":"'Tab1'!AZ4","v":""},{"$f":"'Tab1'!BA4","v":""},{"$f":"'Tab1'!BB4","v":""},{"$f":"'Tab1'!BC4","v":""},{"$f":"'Tab1'!BD4","v":""},{"$f":"'Tab1'!BE4","v":""},{"$f":"'Tab1'!BF4","v":""},{"$f":"'Tab1'!BG4","v":""},{"$f":"'Tab1'!BH4","v":""},{"$f":"'Tab1'!BI4","v":""},{"$f":"'Tab1'!BJ4","v":""},{"$f":"'Tab1'!BK4","v":""},{"$f":"'Tab1'!BL4","v":""},{"$f":"'Tab1'!BM4","v":""}]

{"sheet":"Tab4","index":6,"n_rows":25,"n_cols":65,"rows_kept":25,"cut":false,"hidden":false,"merged":[[0,6,1,7],[0,0,1,2],[0,3,1,3],[2,0,2,3],[4,0,4,3],[4,4,4,5],[4,6,4,7]]}
["Form. Capra",null,null,"sostituire quantità con COSTI reali","Tot con Trasp.",null,{"$f":"SUM(I1:BM1)","v":"€ 0"},null,{"$f":"IF(I2=0,0,I2+$F2*(I2/SUM($I2:$BM2)))","v":"€ 0.00"},"€ 0.00","€ 0.00","€ 0.00","€ 0.00","€ 0.00","€ 0.00","€ 0.00","€ 0.00","€ 0.00","€ 0.00","€ 0.00","€ 0.00","€ 0.00","€ 0.00","€ 0.00","€ 0.00","€ 0.00","€ 0.00","€ 0.00","€ 0.00","€ 0.00","€ 0.00","€ 0.00","€ 0.00","€ 0.00","€ 0.00","€ 0.00","€ 0.00","€ 0.00","€ 0.00","€ 0.00","€ 0.00","€ 0.00","€ 0.00","€ 0.00","€ 0.00","€ 0.00","€ 0.00","€ 0.00","€ 0.00","€ 0.00","€ 0.00","€ 0.00","€ 0.00","€ 0.00","€ 0.00","€ 0.00","€ 0.00","€ 0.00","€ 0.00","€ 0.00","€ 0.00","€ 0.00","€ 0.00","€ 0.00","€ 0.00"]
[{"$nulls":4},"Trasporto:",8.0,null,null,{"$f":"I5","v":"€ 0.00"},"€ 0.00","€ 0.00","€ 0.00","€ 0.00","€ 0.00","€ 0.00","€ 0.00","€ 0.00","€ 0.00","€ 0.00","€ 0.00","€ 0.00","€ 0.00","€ 0.00","€ 0.00","€ 0.00","€ 0.00","€ 0.00","€ 0.00","€ 0.00","€ 0.00","€ 0.00","€ 0.00","€ 0.00","€ 0.00","€ 0.00","€ 0.00","€ 0.00","€ 0.00","€ 0.00","€ 0.00","€ 0.00","€ 0.00","€ 0.00","€ 0.00","€ 0.00","€ 0.00","€ 0.00","€ 0.00","€ 0.00","€ 0.00","€ 0.00","€ 0.00","€ 0.00","€ 0.00","€ 0.00","€ 0.00","€ 0.00","€ 0.00","€ 0.00","€ 0.00","€ 0.00","€ 0.00","€ 0.00","€ 0.00","€ 0.00"]
["tabella per il formaggio di capra, che ha costo di trasporto di 8€ e il prezzo indicato su ogni confezione",{"$nulls":7},{"$f":"'Tab1'!I3","v":"Nino 01 - Alessandro"},{"$f":"'Tab1'!J3","v":"Paolo 02 - Cattorini"},{"$f":"'Tab1'!K3","v":"Giuseppe 03 - Dominici"},{"$f":"'Tab1'!L3","v":"Simona 04 - Riganti"},{"$f":"'Tab1'!M3","v":"Sara 05 - Salvalaglio"},{"$f":"'Tab1'!N3","v":"Fabio 06 - Dal Soglio"},{"$f":"'Tab1'!O3","v":"Cinzia 07 - Vicario"},{"$f":"'Tab1'!P3","v":"Daniela 08 - Achler"},{"$f":"'Tab1'!Q3","v":"Carlotta 09 - Anzini"},{"$f":"'Tab1'!R3","v":"Ada 10 - Benigna"},{"$f":"'Tab1'!S3","v":"Raffaello 11 - Bezzon"},{"$f":"'Tab1'!T3","v":"Roberta 12 - Castiglioni"},{"$f":"'Tab1'!U3","v":"Marco 13 - Cavone"},{"$f":"'Tab1'!V3","v":"Guia 14 - Comini"},{"$f":"'Tab1'!W3","v":"Paolo 15 - Cordilani"},{"$f":"'Tab1'!X3","v":"Elena 16 - Di Nisio"},{"$f":"'Tab1'!Y3","v":"Germana 18 - Drago"},{"$f":"'Tab1'!Z3","v":"Mina 20 - Ferrario"},{"$f":"'Tab1'!AA3","v":"Francesca 22 - Giannuzzi"},{"$f":"'Tab1'!AB3","v":"Ester 23 - Grasselli"},{"$f":"'Tab1'!AC3","v":"Alberto 24 - Longoni"},{"$f":"'Tab1'!AD3","v":"Daniela 27 - Pariani"},{"$f":"'Tab1'!AE3","v":"Italo 28 - Raffaelli"},{"$f":"'Tab1'!AF3","v":"Silvia 29 - Raimondi"},{"$f":"'Tab1'!AG3","v":"Stefano 31 - Tonazzi"},{"$f":"'Tab1'!AH3","v":"Diego 33 - Valceschini"},{"$f":"'Tab1'!AI3","v":"Alberto 34 - Venegoni"},{"$f":"'Tab1'!AJ3","v":"Monica 35 - Vernocchi"},{"$f":"'Tab1'!AK3","v":"Loredana 37 - Colombo"},{"$f":"'Tab1'!AL3","v":"Stefano 38 - Colombo"},{"$f":"'Tab1'!AM3","v":"Alessandra 39 - Tartaro"},{"$f":"'Tab1'!AN3","v":"Stefano 42 - Torzuoli"},{"$f":"'Tab1'!AO3","v":"Emilia 43 - Armiraglio"},{"$f":"'Tab1'!AP3","v":"Elisabetta 44 - Tosi"},{"$f":"'Tab1'!AQ3","v":"Rosangela 46 - Valli"},{"$f":"'Tab1'!AR3","v":"Paola 48 - Dusi"},{"$f":"'Tab1'!AS3","v":"Paolo 49 - Carrera"},{"$f":"'Tab1'!AT3","v":""},{"$f":"'Tab1'!AU3","v":""},{"$f":"'Tab1'!AV3","v":""},{"$f":"'Tab1'!AW3","v":""},{"$f":"'Tab1'!AX3","v":""},{"$f":"'Tab1'!AY3","v":""},{"$f":"'Tab1'!AZ3","v":""},{"$f":"'Tab1'!BA3","v":""},{"$f":"'Tab1'!BB3","v":""},{"$f":"'Tab1'!BC3","v":""},{"$f":"'Tab1'!BD3","v":""},{"$f":"'Tab1'!BE3","v":""},{"$f":"'Tab1'!BF3","v":""},{"$f":"'Tab1'!BG3","v":""},{"$f":"'Tab1'!BH3","v":""},{"$f":"'Tab1'!BI3","v":""},{"$f":"'Tab1'!BJ3","v":""},{"$f":"'Tab1'!BK3","v":""},{"$f":"'Tab1'!BL3","v":""},{"$f":"'Tab1'!BM3","v":""}]
["TOT pesi","Ecce denza","quanti hanno ordinato","Prodotto","Prezzo\nper UM","UM","Peso\nCollo","Colli\nda ordinare",{"$f":"'Tab1'!I4","v":"\nninoalessandro.bargas@gmail.com"},{"$f":"'Tab1'!J4","v":"\npaolo.cattorini@gmail.com"},{"$f":"'Tab1'!K4","v":"\ngiuseppe.pino.dominici@gmail.com"},{"$f":"'Tab1'!L4","v":"\nsriganti.bargas@gmail.com"},{"$f":"'Tab1'!M4","v":"\nsarasalvi86@libero.it"},{"$f":"'Tab1'!N4","v":"\nfabiodalsoglio@hotmail.com"},{"$f":"'Tab1'!O4","v":"\nvicario.cinzia@gmail.com"},{"$f":"'Tab1'!P4","v":"\nciapparelligiovanni@libero.it"},{"$f":"'Tab1'!Q4","v":"\ncarlotta.anzini@gmail.com"},{"$f":"'Tab1'!R4","v":"\nada.benigna@gmail.com"},{"$f":"'Tab1'!S4","v":"\nraffaello.bezzon@gmail.com"},{"$f":"'Tab1'!T4","v":"\nrcastiglio@libero.it"},{"$f":"'Tab1'!U4","v":"\nmarco.cavone@gmail.com"},{"$f":"'Tab1'!V4","v":"\nguya.c@hotmail.it"},{"$f":"'Tab1'!W4","v":"\nvapaio@gmail.com"},{"$f":"'Tab1'!X4","v":"\neldinis@libero.it"},{"$f":"'Tab1'!Y4","v":"\ndragogermana@libero.it"},{"$f":"'Tab1'!Z4","v":"\nminaferrario@gmail.com"},{"$f":"'Tab1'!AA4","v":"\ngiannuzzifrancesca@virgilio.it"},{"$f":"'Tab1'!AB4","v":"\ngrasselli67@gmail.com"},{"$f":"'Tab1'!AC4","v":"\nalbertolongoni@alice.it"},{"$f":"'Tab1'!AD4","v":"\ndaniela.pariani@gmail.com"},{"$f":"'Tab1'!AE4","v":"\nitalo.donata@gmail.com"},{"$f":"'Tab1'!AF4","v":"\nsilvia.raimondi@telesystems-pro.it"},{"$f":"'Tab1'!AG4","v":"\ntonazzistefano@hotmail.it"},{"$f":"'Tab1'!AH4","v":"\ndiego.valceschini@libero.it"},{"$f":"'Tab1'!AI4","v":"\navenus2204@gmail.com"},{"$f":"'Tab1'!AJ4","v":"\nmonicavrn@hotmail.com"},{"$f":"'Tab1'!AK4","v":"\nloredcol@gmail.com"},{"$f":"'Tab1'!AL4","v":"\nstefano1963.sc@gmail.com"},{"$f":"'Tab1'!AM4","v":"\nalessandratartaro@gmail.com"},{"$f":"'Tab1'!AN4","v":"\nstefano.torzuoli@gmail.com"},{"$f":"'Tab1'!AO4","v":"\nemiliarosacarla@libero.it"},{"$f":"'Tab1'!AP4","v":"\nelisabetta.tosi@avvocatotosi.it"},{"$f":"'Tab1'!AQ4","v":"\nrosangela.valli@libero.it"},{"$f":"'Tab1'!AR4","v":"\npaola.dusi@gmail.com"},{"$f":"'Tab1'!AS4","v":"\ngrad.carrera@gmail.com"},{"$f":"'Tab1'!AT4","v":""},{"$f":"'Tab1'!AU4","v":""},{"$f":"'Tab1'!AV4","v":""},{"$f":"'Tab1'!AW4","v":""},{"$f":"'Tab1'!AX4","v":""},{"$f":"'Tab1'!AY4","v":""},{"$f":"'Tab1'!AZ4","v":""},{"$f":"'Tab1'!BA4","v":""},{"$f":"'Tab1'!BB4","v":""},{"$f":"'Tab1'!BC4","v":""},{"$f":"'Tab1'!BD4","v":""},{"$f":"'Tab1'!BE4","v":""},{"$f":"'Tab1'!BF4","v":""},{"$f":"'Tab1'!BG4","v":""},{"$f":"'Tab1'!BH4","v":""},{"$f":"'Tab1'!BI4","v":""},{"$f":"'Tab1'!BJ4","v":""},{"$f":"'Tab1'!BK4","v":""},{"$f":"'Tab1'!BL4","v":""},{"$f":"'Tab1'!BM4","v":""}]
["foglio non utilizzato questa settimana",null,null,null,"tot senza trasporto:",null,{"$f":"SUM(I5:BM5)","v":"€ 0.00"},null,{"$f":"SUM(I6:I25)","v":"€ 0.00"},"€ 0.00","€ 0.00","€ 0.00","€ 0.00","€ 0.00","€ 0.00","€ 0.00","€ 0.00","€ 0.00","€ 0.00","€ 0.00","€ 0.00","€ 0.00","€ 0.00","€ 0.00","€ 0.00","€ 0.00","€ 0.00","€ 0.00","€ 0.00","€ 0.00","€ 0.00","€ 0.00","€ 0.00","€ 0.00","€ 0.00","€ 0.00","€ 0.00","€ 0.00","€ 0.00","€ 0.00","€ 0.00","€ 0.00","€ 0.00","€ 0.00","€ 0.00","€ 0.00","€ 0.00","€ 0.00","€ 0.00","€ 0.00","€ 0.00","€ 0.00","€ 0.00","€ 0.00","€ 0.00","€ 0.00","€ 0.00","€ 0.00","€ 0.00","€ 0.00","€ 0.00","€ 0.00","€ 0.00","€ 0.00","€ 0.00"]
[{"$f":"SUM(I6:BM6)","v":"0.00"},{"$f":"G6*H6-A6","v":"0.00"},{"$f":"COUNT(I6:BM6)","v":"0"}]
["0.00","0.00","0"]
["0.00","0.00","0"]
["0.00","0.00","0"]
["0.00","0.00","0"]
["0.00","0.00","0"]
["0.00","0.00","0"]
["0.00","0.00","0"]
["0.00","0.00","0"]
["0.00","0.00","0"]
["0.00","0.00","0"]
["0.00","0.00","0"]
["0.00","0.00","0"]
["0.00","0.00","0"]
["0.00","0.00","0"]
["0.00","0.00","0"]
["0.00","0.00","0"]
["0.00","0.00","0"]
["0.00","0.00","0"]
["0.00","0.00","0"]